{"text_format":"1","workbook":"xlsx","n_sheets":4,"sheets":["入力ｼｰﾄ","提出用(入力不要)","提出用(記入例)","Sheet3"],"not_rendered":{"charts":0,"images":0,"macros":0,"external_links":0,"defined_names":6,"comments":1,"pivot_tables":0},"unopened":[],"bounds":{"document_bytes":16777216,"sheet_cells":100000,"rows_first":2000,"rows_last":500,"rows_between":2000,"halvings":0,"cell_chars":16384,"cell_head_chars":4096},"cells_cut":0,"cells_raw":0,"read":"whole","date_system":"1900"}

{"sheet":"入力ｼｰﾄ","index":0,"n_rows":47,"n_cols":21,"rows_kept":47,"cut":false,"hidden":false,"merged":[[41,15,41,16],[41,17,41,18],[41,19,41,23],[15,3,15,4],[41,5,41,6],[41,7,41,8],[41,9,41,10],[41,11,41,12],[41,13,41,14],[39,19,39,23],[40,5,40,6],[40,7,40,8],[40,9,40,10],[40,11,40,12],[40,13,40,14],[40,15,40,16],[40,17,40,18],[40,19,40,23],[38,17,38,18],[38,19,38,23],[39,5,39,6],[39,7,39,8],[39,9,39,10],[39,11,39,12],[39,13,39,14],[39,15,39,16],[39,17,39,18],[37,15,37,16],[37,17,37,18],[37,19,37,23],[38,5,38,6],[38,7,38,8],[38,9,38,10],[38,11,38,12],[38,13,38,14],[38,15,38,16],[37,5,37,6],[37,7,37,8],[37,9,37,10],[37,11,37,12],[37,13,37,14],[35,5,35,6],[35,7,35,8],[35,9,35,10],[35,11,35,12],[35,13,35,14],[35,15,35,16],[35,17,35,18],[35,19,35,23],[36,5,36,6],[36,7,36,8],[36,9,36,10],[36,11,36,12],[36,13,36,14],[36,15,36,16],[36,17,36,18],[36,19,36,23],[33,15,33,16],[33,17,33,18],[33,19,33,23],[34,5,34,6],[34,7,34,8],[34,9,34,10],[34,11,34,12],[34,13,34,14],[34,15,34,16],[33,5,33,6],[33,7,33,8],[33,9,33,10],[33,11,33,12],[33,13,33,14],[34,17,34,18],[34,19,34,23],[31,5,31,6],[31,7,31,8],[31,9,31,10],[31,11,31,12],[31,13,31,14],[31,15,31,16],[31,17,31,18],[31,19,31,23],[32,5,32,6],[32,7,32,8],[32,9,32,10],[32,11,32,12],[32,13,32,14],[32,15,32,16],[32,17,32,18],[32,19,32,23],[29,15,29,16],[29,17,29,18],[29,19,29,23],[30,5,30,6],[30,7,30,8],[30,9,30,10],[30,11,30,12],[30,13,30,14],[30,15,30,16],[29,5,29,6],[29,7,29,8],[29,9,29,10],[29,11,29,12],[29,13,29,14],[30,17,30,18],[30,19,30,23],[27,5,27,6],[27,7,27,8],[27,9,27,10],[27,11,27,12],[27,13,27,14],[27,15,27,16],[27,17,27,18],[27,19,27,23],[28,5,28,6],[28,7,28,8],[28,9,28,10],[28,11,28,12],[28,13,28,14],[28,15,28,16],[28,17,28,18],[28,19,28,23],[25,15,25,16],[25,17,25,18],[25,19,25,23],[26,5,26,6],[26,7,26,8],[26,9,26,10],[26,11,26,12],[26,13,26,14],[26,15,26,16],[25,5,25,6],[25,7,25,8],[25,9,25,10],[25,11,25,12],[25,13,25,14],[26,17,26,18],[26,19,26,23],[23,5,23,6],[23,7,23,8],[23,9,23,10],[23,11,23,12],[23,13,23,14],[23,15,23,16],[23,17,23,18],[23,19,23,23],[24,5,24,6],[24,7,24,8],[24,9,24,10],[24,11,24,12],[24,13,24,14],[24,15,24,16],[24,17,24,18],[24,19,24,23],[21,15,21,16],[21,17,21,18],[21,19,21,23],[22,5,22,6],[22,7,22,8],[22,9,22,10],[22,11,22,12],[22,13,22,14],[22,15,22,16],[21,5,21,6],[21,7,21,8],[21,9,21,10],[21,11,21,12],[21,13,21,14],[22,17,22,18],[22,19,22,23],[19,5,19,6],[19,7,19,8],[19,9,19,10],[19,11,19,12],[19,13,19,14],[19,15,19,16],[19,17,19,18],[19,19,19,23],[20,5,20,6],[20,7,20,8],[20,9,20,10],[20,11,20,12],[20,13,20,14],[20,15,20,16],[20,17,20,18],[20,19,20,23],[18,13,18,14],[18,15,18,16],[17,5,17,6],[17,7,17,8],[17,9,17,10],[17,11,17,12],[17,13,17,14],[18,17,18,18],[18,19,18,23],[15,11,15,14],[15,15,16,16],[15,17,16,18],[15,19,16,23],[16,7,16,8],[16,9,16,10],[16,11,16,12],[16,13,16,14],[14,1,14,2],[14,3,14,6],[14,7,14,10],[14,11,14,14],[14,15,14,18],[15,0,41,1],[15,2,16,2],[15,5,16,6],[15,7,15,10],[17,15,17,16],[17,17,17,18],[17,19,17,23],[18,5,18,6],[18,7,18,8],[18,9,18,10],[18,11,18,12],[6,0,9,0],[6,1,6,2],[12,3,12,6],[12,7,12,10],[12,11,12,14],[12,15,12,18],[10,0,11,2],[10,3,10,10],[10,11,10,18],[7,17,7,18],[6,4,6,9],[8,4,8,9],[8,11,8,16],[6,18,6,23],[6,11,6,16],[10,19,14,23],[11,3,11,6],[11,7,11,10],[11,11,11,14],[11,15,11,18],[12,1,12,2],[13,1,13,2],[13,3,13,6],[13,7,13,10],[13,11,13,14],[13,15,13,18],[7,19,7,23],[8,1,8,2],[9,1,9,2],[9,3,9,4],[9,5,9,9],[9,10,9,11],[7,1,7,2],[7,3,7,4],[7,5,7,9],[7,10,7,11],[7,12,7,16],[9,12,9,16],[8,18,8,23],[9,17,9,18],[9,19,9,23],[4,0,4,2],[4,3,4,9],[4,10,4,12],[4,13,4,23],[5,0,5,2],[5,3,5,9],[5,10,5,12],[5,13,5,23],[0,0,0,23],[2,0,2,2],[2,3,2,5],[3,0,3,2],[3,17,3,19],[3,20,3,23],[3,3,3,16]]}
["2026 東播リーグ U－10 チーム・選手 登録表"]
[]
["部",null,null,"－"]
["チーム名",null,null,"フロールＦＣ",null,null,null,null,null,null,null,null,null,null,null,null,null,"チーム番号",null,null,"1030594"]
["責任者氏名",null,null,"藤本　圭太",null,null,null,null,null,null,"携帯アドレス",null,null,"kf.0221.rm.ssfc@docomo.ne.jp"]
["緊急連絡先",null,null,"090-3035-8093",null,null,null,null,null,null,"ＰＣアドレス",null,null,"fujimoto_1125@bb.banban.jp"]
["監督\nｺｰﾁ","指導者名",null,"1st","藤本　圭太",null,null,null,null,null,"2nd","鎌田　裕文",null,null,null,null,null,"3rd","浜西　潤一"]
[null,"資格・No",null,"Ｂ級",null,"C000332909",null,null,null,null,"Ｄ級",null,"C000697624",null,null,null,null,"Ｄ級",null,"C000704663"]
[null,"指導者名",null,"4th",null,null,null,null,null,null,"5th",null,null,null,null,null,null,"6th"]
[null,"資格・No"]
["ユニフォーム",null,null,"正（１ｓｔ）",null,null,null,null,null,null,null,"副（２ｎｄ）",null,null,null,null,null,null,null,"・ユニフォームはＦＰ、\n　ＧＫとも必ず２着色違\n　い（同系色及び黒を避\n　ける）を用意すること\n・チーム内でＧＫとＦＰ\n　の色が重ならないこと\n（パンツ、ストッキング\n　とも）"]
[null,null,null,"フィールドプレーヤー",null,null,null,"ゴールキーパー",null,null,null,"フィールドプレーヤー",null,null,null,"ゴールキーパー"]
[null,"シ ャ ツ",null,"橙",null,null,null,"黄",null,null,null,"水",null,null,null,"赤"]
[null,"パ ン ツ",null,"紺",null,null,null,"黄",null,null,null,"白",null,null,null,"赤"]
[null,"ソックス",null,"紺",null,null,null,"黄",null,null,null,"青",null,null,null,"赤"]
["登録選手",null,null,"背番号",null,"ポジション",null,"選手氏名",null,null,null,"フリガナ",null,null,null,"性　別",null,"学　年",null,"登　録　番　号"]
[null,null,null,null,"CAP",null,null,"姓",null,"名",null,"姓",null,"名"]
[null,null,1,1,null,"GK/FP",null,"鎌田",null,"隼羽",null,"カマダ",null,"シュント",null,"男子",null,"３年",null,1708210056]
[null,null,2,3,null,"ＦＰ",null,"前田",null,"陽太",null,"マエダ",null,"ヒナタ",null,"男子",null,"４年",null,1610050146]
[null,null,3,4,null,"ＦＰ",null,"牛尾",null,"佳也",null,"ウシオ",null,"ヨシナリ",null,"男子",null,"４年",null,1604280009]
[null,null,4,6,null,"ＦＰ",null,"水野",null,"大地",null,"ミズノ",null,"ダイチ",null,"男子",null,"４年",null,1608160178]
[null,null,5,7,null,"ＦＰ",null,"浜西",null,"遥斗",null,"ハマニシ",null,"ハルト",null,"男子",null,"４年",null,1609080088]
[null,null,6,8,null,"ＦＰ",null,"龍田",null,"朋哉",null,"リョウダ",null,"トモヤ",null,"男子",null,"４年",null,1604200087]
[null,null,7,9,null,"ＦＰ",null,"山崎",null,"真太朗",null,"ヤマザキ",null,"シンタロウ",null,"男子",null,"４年",null,1608280045]
[null,null,8,10,"◎","ＦＰ",null,"土屋",null,"亮太",null,"ツチヤ",null,"リョウタ",null,"男子",null,"４年",null,1608120075]
[null,null,9,11,null,"ＦＰ",null,"表",null,"陽奏",null,"オモテ",null,"ヒナタ",null,"男子",null,"４年",null,1607250090]
[null,null,10,15,null,"ＦＰ",null,"八木",null,"佑基",null,"ヤギ",null,"ユウキ",null,"男子",null,"３年",null,1709040071]
[null,null,11,18,null,"ＦＰ",null,"伊藤",null,"勘太",null,"イトウ",null,"カンタ",null,"男子",null,"４年",null,1608010079]
[null,null,12,19,null,"ＦＰ",null,"中筋",null,"佑",null,"ナカスジ",null,"ユウ",null,"男子",null,"４年",null,1606090076]
[null,null,13,27,null,"ＦＰ",null,"高田",null,"陸翔",null,"タカダ",null,"リクト",null,"男子",null,"３年",null,1705120056]
[null,null,14,29,null,"ＦＰ",null,"三村",null,"琉晟",null,"ミムラ",null,"リュウセイ",null,"男子",null,"３年",null,1704050081]
[null,null,15,30,null,"ＦＰ",null,"山本",null,"偉心",null,"ヤマモト",null,"イシン",null,"男子",null,"３年",null,1712250061]
[null,null,16,32,null,"ＦＰ",null,"楠田",null,"朝陽",null,"クスダ",null,"アサヒ",null,"男子",null,"３年",null,1709150013]
[null,null,17]
[null,null,18]
[null,null,19]
[null,null,20]
[null,null,21]
[null,null,22]
[null,null,23]
[null,null,24]
[null,null,25]
["・　エントリー表提出後の変更は、記入誤り等であっても一切認めないので注意すること(特に背番号､生年月日の記入誤りに留意願います｡)"]
["・　選手の入替・追加・情報訂正は出場しようとする節の７日前までに審判部長に、また、４日前までに東播リーグ運営事務局へ提出すること"]
["　　ただし、東播リーグにおいては、ＧＫの登録を入れ替え、背番号を変更する場合は、試合当日の第１試合の選手チェックまでに変更することが"]
["　できることとする"]
["※　クラブ間で移籍のあった選手は､チーム登録の完了後、選手登録を済ませた選手のみ出場可能とする。"]

{"sheet":"提出用(入力不要)","index":1,"n_rows":47,"n_cols":24,"rows_kept":47,"cut":false,"hidden":false,"merged":[[26,11,26,12],[20,7,20,8],[21,7,21,8],[22,7,22,8],[23,7,23,8],[24,7,24,8],[20,15,20,16],[20,17,20,18],[24,15,24,16],[24,17,24,18],[21,15,21,16],[21,17,21,18],[22,15,22,16],[22,17,22,18],[23,15,23,16],[23,17,23,18],[24,19,24,22],[23,19,23,22],[22,19,22,22],[21,19,21,22],[20,19,20,22],[33,19,33,22],[2,13,2,23],[32,19,32,22],[31,19,31,22],[30,19,30,22],[29,19,29,22],[28,19,28,22],[3,17,3,19],[18,15,19,16],[18,17,19,18],[17,13,17,14],[6,12,6,15],[6,19,6,22],[32,15,32,16],[32,17,32,18],[29,11,29,12],[30,11,30,12],[27,11,27,12],[25,11,25,12],[18,3,18,4],[12,0,14,2],[18,5,19,5],[18,6,19,6],[44,19,44,22],[43,19,43,22],[42,19,42,22],[41,19,41,22],[40,19,40,22],[39,19,39,22],[14,17,14,18],[15,17,15,18],[16,17,16,18],[17,17,17,18],[38,19,38,22],[37,19,37,22],[36,19,36,22],[35,19,35,22],[34,19,34,22],[27,19,27,22],[26,19,26,22],[25,19,25,22],[15,13,15,14],[16,13,16,14],[18,7,18,10],[19,9,19,10],[19,7,19,8],[18,11,18,14],[19,13,19,14],[19,11,19,12],[0,0,0,23],[15,1,15,2],[16,1,16,2],[17,1,17,2],[5,0,5,2],[5,21,5,23],[4,3,4,11],[2,0,2,2],[2,3,2,5],[13,3,13,6],[13,7,13,10],[13,11,13,14],[13,15,13,18],[12,3,12,10],[12,11,12,18],[4,12,4,14],[4,15,4,23],[6,5,6,8],[8,5,8,8],[8,12,8,15],[9,4,9,8],[4,0,4,2],[36,15,36,16],[36,17,36,18],[43,15,43,16],[43,17,43,18],[44,15,44,16],[44,17,44,18],[40,15,40,16],[40,17,40,18],[41,15,41,16],[41,17,41,18],[42,15,42,16],[42,17,42,18],[25,15,25,16],[25,17,25,18],[26,15,26,16],[26,17,26,18],[27,15,27,16],[27,17,27,18],[31,15,31,16],[31,17,31,18],[43,9,43,10],[33,15,33,16],[33,17,33,18],[28,15,28,16],[28,17,28,18],[29,15,29,16],[29,17,29,18],[30,15,30,16],[30,17,30,18],[37,15,37,16],[37,17,37,18],[38,15,38,16],[38,17,38,18],[39,15,39,16],[39,17,39,18],[34,15,34,16],[34,17,34,18],[35,15,35,16],[35,17,35,18],[43,7,43,8],[28,7,28,8],[29,7,29,8],[30,7,30,8],[40,11,40,12],[41,11,41,12],[42,11,42,12],[40,13,40,14],[34,13,34,14],[35,13,35,14],[36,13,36,14],[41,13,41,14],[42,13,42,14],[43,13,43,14],[33,11,33,12],[34,11,34,12],[35,11,35,12],[36,11,36,12],[37,11,37,12],[31,11,31,12],[32,11,32,12],[33,13,33,14],[43,11,43,12],[28,11,28,12],[44,13,44,14],[32,13,32,14],[39,13,39,14],[28,13,28,14],[29,13,29,14],[30,13,30,14],[31,13,31,14],[20,13,20,14],[21,13,21,14],[22,13,22,14],[23,13,23,14],[24,13,24,14],[25,13,25,14],[26,13,26,14],[27,13,27,14],[37,13,37,14],[38,13,38,14],[44,9,44,10],[20,11,20,12],[21,11,21,12],[22,11,22,12],[23,11,23,12],[24,11,24,12],[34,9,34,10],[35,9,35,10],[36,9,36,10],[37,9,37,10],[38,9,38,10],[39,9,39,10],[28,9,28,10],[29,9,29,10],[30,9,30,10],[31,9,31,10],[32,9,32,10],[33,9,33,10],[44,11,44,12],[38,11,38,12],[39,11,39,12],[40,9,40,10],[41,9,41,10],[42,9,42,10],[44,7,44,8],[20,9,20,10],[21,9,21,10],[22,9,22,10],[23,9,23,10],[24,9,24,10],[25,9,25,10],[26,9,26,10],[27,9,27,10],[37,7,37,8],[38,7,38,8],[39,7,39,8],[40,7,40,8],[41,7,41,8],[42,7,42,8],[31,7,31,8],[32,7,32,8],[33,7,33,8],[34,7,34,8],[35,7,35,8],[36,7,36,8],[25,7,25,8],[26,7,26,8],[27,7,27,8],[18,0,19,0],[18,1,18,2],[3,0,3,2],[14,5,14,6],[15,5,15,6],[16,5,16,6],[12,19,17,23],[7,18,7,22],[7,11,7,15],[6,0,11,2],[7,4,7,8],[9,11,9,15],[3,3,3,16],[3,20,3,23],[10,3,11,23],[8,19,8,22],[9,18,9,22],[18,19,19,22],[17,5,17,6],[14,9,14,10],[15,9,15,10],[16,9,16,10],[17,9,17,10],[14,13,14,14]]}
["2026 東播リーグ U－10 チーム・選手 登録表（本部提出用）"]
[]
["部",null,null,{"$f":"IF(入力ｼｰﾄ!D3=\"\",\"\",入力ｼｰﾄ!D3)","v":"－"},null,null,null,null,null,null,null,null,null,"提出時に　　　欄に文字､\"○\"を記載すること"]
["チーム名",null,null,{"$f":"IF(入力ｼｰﾄ!D4=\"\",\"\",入力ｼｰﾄ!D4)","v":"フロールＦＣ"},null,null,null,null,null,null,null,null,null,null,null,null,null,"チーム番号",null,null,{"$f":"IF(入力ｼｰﾄ!U4=\"\",\"\",入力ｼｰﾄ!U4)","v":"1030594"}]
["開催日時",null,null,"　 年　　月　　日　 Kickoff:  　時 　 分",null,null,null,null,null,null,null,null,"対戦相手"]
["対戦相手",null,null,"日岡山公園Ｇ　・　神鋼高砂Ｇ　・　ｻﾝ･ｽﾎﾟｰﾂﾗﾝﾄﾞいなみＧ　・　伊保ｽﾎﾟｰﾂ広場",null,null,null,null,null,null,null,null,null,null,null,null,null,null,null,null,null,"Ａ　・　Ｂ"]
["監　　督\nコ ー チ",null,null,"ベンチ入",{"$f":"IF(入力ｼｰﾄ!D7=\"\",\"\",入力ｼｰﾄ!D7)","v":"1st"},{"$f":"IF(入力ｼｰﾄ!E7=\"\",\"\",入力ｼｰﾄ!E7)","v":"藤本　圭太"},null,null,null,"ﾁｪｯｸ","ベンチ入",{"$f":"IF(入力ｼｰﾄ!K7=\"\",\"\",入力ｼｰﾄ!K7)","v":"2nd"},{"$f":"IF(入力ｼｰﾄ!L7=\"\",\"\",入力ｼｰﾄ!L7)","v":"鎌田　裕文"},null,null,null,"ﾁｪｯｸ","ベンチ入",{"$f":"IF(入力ｼｰﾄ!R7=\"\",\"\",入力ｼｰﾄ!R7)","v":"3rd"},{"$f":"IF(入力ｼｰﾄ!S7=\"\",\"\",入力ｼｰﾄ!S7)","v":"浜西　潤一"},null,null,null,"ﾁｪｯｸ"]
[null,null,null,null,{"$f":"IF(入力ｼｰﾄ!D8=\"\",\"\",入力ｼｰﾄ!D8&\" ・ \"&入力ｼｰﾄ!F8)","v":"Ｂ級 ・ C000332909"},null,null,null,null,null,null,{"$f":"IF(入力ｼｰﾄ!K8=\"\",\"\",入力ｼｰﾄ!K8&\" ・ \"&入力ｼｰﾄ!M8)","v":"Ｄ級 ・ C000697624"},null,null,null,null,null,null,{"$f":"IF(入力ｼｰﾄ!R8=\"\",\"\",入力ｼｰﾄ!R8&\" ・ \"&入力ｼｰﾄ!T8)","v":"Ｄ級 ・ C000704663"}]
[null,null,null,"ベンチ入",{"$f":"IF(入力ｼｰﾄ!D9=\"\",\"\",入力ｼｰﾄ!D9)","v":"4th"},{"$f":"IF(入力ｼｰﾄ!E9=\"\",\"\",入力ｼｰﾄ!E9)","v":""},null,null,null,"ﾁｪｯｸ","ベンチ入",{"$f":"IF(入力ｼｰﾄ!K9=\"\",\"\",入力ｼｰﾄ!K9)","v":"5th"},{"$f":"IF(入力ｼｰﾄ!L9=\"\",\"\",入力ｼｰﾄ!L9)","v":""},null,null,null,"ﾁｪｯｸ","ベンチ入",{"$f":"IF(入力ｼｰﾄ!R9=\"\",\"\",入力ｼｰﾄ!R9)","v":"6th"},{"$f":"IF(入力ｼｰﾄ!S9=\"\",\"\",入力ｼｰﾄ!S9)","v":""},null,null,null,"ﾁｪｯｸ"]
[null,null,null,null,{"$f":"IF(入力ｼｰﾄ!D10=\"\",\"\",入力ｼｰﾄ!D10&\" ・ \"&入力ｼｰﾄ!F10)","v":""},null,null,null,null,null,null,{"$f":"IF(入力ｼｰﾄ!K10=\"\",\"\",入力ｼｰﾄ!K10&\" ・ \"&入力ｼｰﾄ!M10)","v":""},null,null,null,null,null,null,{"$f":"IF(入力ｼｰﾄ!R10=\"\",\"\",入力ｼｰﾄ!R10&\" ・ \"&入力ｼｰﾄ!T10)","v":""}]
[null,null,null," ① 指導者は全員有資格者であること\n ② ベンチ入りは登録された指導者のうち３名以内とし、胸に資格者証を掲示すること"]
[]
["ユニフォーム",null,null,"正（１ｓｔ）",null,null,null,null,null,null,null,"副（２ｎｄ）",null,null,null,null,null,null,null,"・ユニフォームはＦＰ、\n　ＧＫとも必ず２着色違\n　い（同系色及び黒を避\n　ける）を用意すること\n・チーム内でＧＫとＦＰ\n　の色が重ならないこと\n（パンツ、ストッキング\n　とも）"]
[null,null,null,"フィールドプレーヤー",null,null,null,"ゴールキーパー",null,null,null,"フィールドプレーヤー",null,null,null,"ゴールキーパー"]
[null,null,null,"ﾁｪｯｸ","着用","色",null,"ﾁｪｯｸ","着用","色",null,"ﾁｪｯｸ","着用","色",null,"ﾁｪｯｸ","着用","色"]
[null,"シ ャ ツ",null,null,null,{"$f":"IF(入力ｼｰﾄ!D13=\"\",\"\",入力ｼｰﾄ!D13)","v":"橙"},null,null,null,{"$f":"IF(入力ｼｰﾄ!H13=\"\",\"\",入力ｼｰﾄ!H13)","v":"黄"},null,null,null,{"$f":"IF(入力ｼｰﾄ!L13=\"\",\"\",入力ｼｰﾄ!L13)","v":"水"},null,null,null,{"$f":"IF(入力ｼｰﾄ!P13=\"\",\"\",入力ｼｰﾄ!P13)","v":"赤"}]
[null,"パ ン ツ",null,null,null,{"$f":"IF(入力ｼｰﾄ!D14=\"\",\"\",入力ｼｰﾄ!D14)","v":"紺"},null,null,null,{"$f":"IF(入力ｼｰﾄ!H14=\"\",\"\",入力ｼｰﾄ!H14)","v":"黄"},null,null,null,{"$f":"IF(入力ｼｰﾄ!L14=\"\",\"\",入力ｼｰﾄ!L14)","v":"白"},null,null,null,{"$f":"IF(入力ｼｰﾄ!P14=\"\",\"\",入力ｼｰﾄ!P14)","v":"赤"}]
[null,"ソックス",null,null,null,{"$f":"IF(入力ｼｰﾄ!D15=\"\",\"\",入力ｼｰﾄ!D15)","v":"紺"},null,null,null,{"$f":"IF(入力ｼｰﾄ!H15=\"\",\"\",入力ｼｰﾄ!H15)","v":"黄"},null,null,null,{"$f":"IF(入力ｼｰﾄ!L15=\"\",\"\",入力ｼｰﾄ!L15)","v":"青"},null,null,null,{"$f":"IF(入力ｼｰﾄ!P15=\"\",\"\",入力ｼｰﾄ!P15)","v":"赤"}]
[null,"登録選手",null,"背番号",null,"ポ ジ\nション","警\n・停","選手氏名",null,null,null,"フリガナ",null,null,null,"性　別",null,"学　年",null,"登　録　番　号　"]
[null,"ベンチ入","先発",null,"CAP",null,null,"姓",null,"名",null,"姓",null,"名",null,null,null,null,null,null,null,null,null,"ﾁｪｯｸ"]
[1,null,null,{"$f":"IF(入力ｼｰﾄ!D18=\"\",\"\",入力ｼｰﾄ!D18)","v":1},{"$f":"IF(入力ｼｰﾄ!E18=\"\",\"\",入力ｼｰﾄ!E18)","v":""},{"$f":"IF(入力ｼｰﾄ!F18=\"\",\"\",入力ｼｰﾄ!F18)","v":"GK/FP"},null,{"$f":"IF(入力ｼｰﾄ!H18=\"\",\"\",入力ｼｰﾄ!H18)","v":"鎌田"},null,{"$f":"IF(入力ｼｰﾄ!J18=\"\",\"\",入力ｼｰﾄ!J18)","v":"隼羽"},null,{"$f":"IF(入力ｼｰﾄ!L18=\"\",\"\",入力ｼｰﾄ!L18)","v":"カマダ"},null,{"$f":"IF(入力ｼｰﾄ!N18=\"\",\"\",入力ｼｰﾄ!N18)","v":"シュント"},null,{"$f":"IF(入力ｼｰﾄ!P18=\"\",\"\",入力ｼｰﾄ!P18)","v":"男子"},null,{"$f":"IF(入力ｼｰﾄ!R18=\"\",\"\",入力ｼｰﾄ!R18)","v":"３年"},null,{"$f":"IF(入力ｼｰﾄ!T18=\"\",\"\",入力ｼｰﾄ!T18)","v":1708210056}]
[2,null,null,{"$f":"IF(入力ｼｰﾄ!D19=\"\",\"\",入力ｼｰﾄ!D19)","v":3},{"$f":"IF(入力ｼｰﾄ!E19=\"\",\"\",入力ｼｰﾄ!E19)","v":""},{"$f":"IF(入力ｼｰﾄ!F19=\"\",\"\",入力ｼｰﾄ!F19)","v":"ＦＰ"},null,{"$f":"IF(入力ｼｰﾄ!H19=\"\",\"\",入力ｼｰﾄ!H19)","v":"前田"},null,{"$f":"IF(入力ｼｰﾄ!J19=\"\",\"\",入力ｼｰﾄ!J19)","v":"陽太"},null,{"$f":"IF(入力ｼｰﾄ!L19=\"\",\"\",入力ｼｰﾄ!L19)","v":"マエダ"},null,{"$f":"IF(入力ｼｰﾄ!N19=\"\",\"\",入力ｼｰﾄ!N19)","v":"ヒナタ"},null,{"$f":"IF(入力ｼｰﾄ!P19=\"\",\"\",入力ｼｰﾄ!P19)","v":"男子"},null,{"$f":"IF(入力ｼｰﾄ!R19=\"\",\"\",入力ｼｰﾄ!R19)","v":"４年"},null,{"$f":"IF(入力ｼｰﾄ!T19=\"\",\"\",入力ｼｰﾄ!T19)","v":1610050146}]
[3,null,null,{"$f":"IF(入力ｼｰﾄ!D20=\"\",\"\",入力ｼｰﾄ!D20)","v":4},{"$f":"IF(入力ｼｰﾄ!E20=\"\",\"\",入力ｼｰﾄ!E20)","v":""},{"$f":"IF(入力ｼｰﾄ!F20=\"\",\"\",入力ｼｰﾄ!F20)","v":"ＦＰ"},null,{"$f":"IF(入力ｼｰﾄ!H20=\"\",\"\",入力ｼｰﾄ!H20)","v":"牛尾"},null,{"$f":"IF(入力ｼｰﾄ!J20=\"\",\"\",入力ｼｰﾄ!J20)","v":"佳也"},null,{"$f":"IF(入力ｼｰﾄ!L20=\"\",\"\",入力ｼｰﾄ!L20)","v":"ウシオ"},null,{"$f":"IF(入力ｼｰﾄ!N20=\"\",\"\",入力ｼｰﾄ!N20)","v":"ヨシナリ"},null,{"$f":"IF(入力ｼｰﾄ!P20=\"\",\"\",入力ｼｰﾄ!P20)","v":"男子"},null,{"$f":"IF(入力ｼｰﾄ!R20=\"\",\"\",入力ｼｰﾄ!R20)","v":"４年"},null,{"$f":"IF(入力ｼｰﾄ!T20=\"\",\"\",入力ｼｰﾄ!T20)","v":1604280009}]
[4,null,null,{"$f":"IF(入力ｼｰﾄ!D21=\"\",\"\",入力ｼｰﾄ!D21)","v":6},{"$f":"IF(入力ｼｰﾄ!E21=\"\",\"\",入力ｼｰﾄ!E21)","v":""},{"$f":"IF(入力ｼｰﾄ!F21=\"\",\"\",入力ｼｰﾄ!F21)","v":"ＦＰ"},null,{"$f":"IF(入力ｼｰﾄ!H21=\"\",\"\",入力ｼｰﾄ!H21)","v":"水野"},null,{"$f":"IF(入力ｼｰﾄ!J21=\"\",\"\",入力ｼｰﾄ!J21)","v":"大地"},null,{"$f":"IF(入力ｼｰﾄ!L21=\"\",\"\",入力ｼｰﾄ!L21)","v":"ミズノ"},null,{"$f":"IF(入力ｼｰﾄ!N21=\"\",\"\",入力ｼｰﾄ!N21)","v":"ダイチ"},null,{"$f":"IF(入力ｼｰﾄ!P21=\"\",\"\",入力ｼｰﾄ!P21)","v":"男子"},null,{"$f":"IF(入力ｼｰﾄ!R21=\"\",\"\",入力ｼｰﾄ!R21)","v":"４年"},null,{"$f":"IF(入力ｼｰﾄ!T21=\"\",\"\",入力ｼｰﾄ!T21)","v":1608160178}]
[5,null,null,{"$f":"IF(入力ｼｰﾄ!D22=\"\",\"\",入力ｼｰﾄ!D22)","v":7},{"$f":"IF(入力ｼｰﾄ!E22=\"\",\"\",入力ｼｰﾄ!E22)","v":""},{"$f":"IF(入力ｼｰﾄ!F22=\"\",\"\",入力ｼｰﾄ!F22)","v":"ＦＰ"},null,{"$f":"IF(入力ｼｰﾄ!H22=\"\",\"\",入力ｼｰﾄ!H22)","v":"浜西"},null,{"$f":"IF(入力ｼｰﾄ!J22=\"\",\"\",入力ｼｰﾄ!J22)","v":"遥斗"},null,{"$f":"IF(入力ｼｰﾄ!L22=\"\",\"\",入力ｼｰﾄ!L22)","v":"ハマニシ"},null,{"$f":"IF(入力ｼｰﾄ!N22=\"\",\"\",入力ｼｰﾄ!N22)","v":"ハルト"},null,{"$f":"IF(入力ｼｰﾄ!P22=\"\",\"\",入力ｼｰﾄ!P22)","v":"男子"},null,{"$f":"IF(入力ｼｰﾄ!R22=\"\",\"\",入力ｼｰﾄ!R22)","v":"４年"},null,{"$f":"IF(入力ｼｰﾄ!T22=\"\",\"\",入力ｼｰﾄ!T22)","v":1609080088}]
[6,null,null,{"$f":"IF(入力ｼｰﾄ!D23=\"\",\"\",入力ｼｰﾄ!D23)","v":8},{"$f":"IF(入力ｼｰﾄ!E23=\"\",\"\",入力ｼｰﾄ!E23)","v":""},{"$f":"IF(入力ｼｰﾄ!F23=\"\",\"\",入力ｼｰﾄ!F23)","v":"ＦＰ"},null,{"$f":"IF(入力ｼｰﾄ!H23=\"\",\"\",入力ｼｰﾄ!H23)","v":"龍田"},null,{"$f":"IF(入力ｼｰﾄ!J23=\"\",\"\",入力ｼｰﾄ!J23)","v":"朋哉"},null,{"$f":"IF(入力ｼｰﾄ!L23=\"\",\"\",入力ｼｰﾄ!L23)","v":"リョウダ"},null,{"$f":"IF(入力ｼｰﾄ!N23=\"\",\"\",入力ｼｰﾄ!N23)","v":"トモヤ"},null,{"$f":"IF(入力ｼｰﾄ!P23=\"\",\"\",入力ｼｰﾄ!P23)","v":"男子"},null,{"$f":"IF(入力ｼｰﾄ!R23=\"\",\"\",入力ｼｰﾄ!R23)","v":"４年"},null,{"$f":"IF(入力ｼｰﾄ!T23=\"\",\"\",入力ｼｰﾄ!T23)","v":1604200087}]
[7,null,null,{"$f":"IF(入力ｼｰﾄ!D24=\"\",\"\",入力ｼｰﾄ!D24)","v":9},{"$f":"IF(入力ｼｰﾄ!E24=\"\",\"\",入力ｼｰﾄ!E24)","v":""},{"$f":"IF(入力ｼｰﾄ!F24=\"\",\"\",入力ｼｰﾄ!F24)","v":"ＦＰ"},null,{"$f":"IF(入力ｼｰﾄ!H24=\"\",\"\",入力ｼｰﾄ!H24)","v":"山崎"},null,{"$f":"IF(入力ｼｰﾄ!J24=\"\",\"\",入力ｼｰﾄ!J24)","v":"真太朗"},null,{"$f":"IF(入力ｼｰﾄ!L24=\"\",\"\",入力ｼｰﾄ!L24)","v":"ヤマザキ"},null,{"$f":"IF(入力ｼｰﾄ!N24=\"\",\"\",入力ｼｰﾄ!N24)","v":"シンタロウ"},null,{"$f":"IF(入力ｼｰﾄ!P24=\"\",\"\",入力ｼｰﾄ!P24)","v":"男子"},null,{"$f":"IF(入力ｼｰﾄ!R24=\"\",\"\",入力ｼｰﾄ!R24)","v":"４年"},null,{"$f":"IF(入力ｼｰﾄ!T24=\"\",\"\",入力ｼｰﾄ!T24)","v":1608280045}]
[8,null,null,{"$f":"IF(入力ｼｰﾄ!D25=\"\",\"\",入力ｼｰﾄ!D25)","v":10},{"$f":"IF(入力ｼｰﾄ!E25=\"\",\"\",入力ｼｰﾄ!E25)","v":"◎"},{"$f":"IF(入力ｼｰﾄ!F25=\"\",\"\",入力ｼｰﾄ!F25)","v":"ＦＰ"},null,{"$f":"IF(入力ｼｰﾄ!H25=\"\",\"\",入力ｼｰﾄ!H25)","v":"土屋"},null,{"$f":"IF(入力ｼｰﾄ!J25=\"\",\"\",入力ｼｰﾄ!J25)","v":"亮太"},null,{"$f":"IF(入力ｼｰﾄ!L25=\"\",\"\",入力ｼｰﾄ!L25)","v":"ツチヤ"},null,{"$f":"IF(入力ｼｰﾄ!N25=\"\",\"\",入力ｼｰﾄ!N25)","v":"リョウタ"},null,{"$f":"IF(入力ｼｰﾄ!P25=\"\",\"\",入力ｼｰﾄ!P25)","v":"男子"},null,{"$f":"IF(入力ｼｰﾄ!R25=\"\",\"\",入力ｼｰﾄ!R25)","v":"４年"},null,{"$f":"IF(入力ｼｰﾄ!T25=\"\",\"\",入力ｼｰﾄ!T25)","v":1608120075}]
[9,null,null,{"$f":"IF(入力ｼｰﾄ!D26=\"\",\"\",入力ｼｰﾄ!D26)","v":11},{"$f":"IF(入力ｼｰﾄ!E26=\"\",\"\",入力ｼｰﾄ!E26)","v":""},{"$f":"IF(入力ｼｰﾄ!F26=\"\",\"\",入力ｼｰﾄ!F26)","v":"ＦＰ"},null,{"$f":"IF(入力ｼｰﾄ!H26=\"\",\"\",入力ｼｰﾄ!H26)","v":"表"},null,{"$f":"IF(入力ｼｰﾄ!J26=\"\",\"\",入力ｼｰﾄ!J26)","v":"陽奏"},null,{"$f":"IF(入力ｼｰﾄ!L26=\"\",\"\",入力ｼｰﾄ!L26)","v":"オモテ"},null,{"$f":"IF(入力ｼｰﾄ!N26=\"\",\"\",入力ｼｰﾄ!N26)","v":"ヒナタ"},null,{"$f":"IF(入力ｼｰﾄ!P26=\"\",\"\",入力ｼｰﾄ!P26)","v":"男子"},null,{"$f":"IF(入力ｼｰﾄ!R26=\"\",\"\",入力ｼｰﾄ!R26)","v":"４年"},null,{"$f":"IF(入力ｼｰﾄ!T26=\"\",\"\",入力ｼｰﾄ!T26)","v":1607250090}]
[10,null,null,{"$f":"IF(入力ｼｰﾄ!D27=\"\",\"\",入力ｼｰﾄ!D27)","v":15},{"$f":"IF(入力ｼｰﾄ!E27=\"\",\"\",入力ｼｰﾄ!E27)","v":""},{"$f":"IF(入力ｼｰﾄ!F27=\"\",\"\",入力ｼｰﾄ!F27)","v":"ＦＰ"},null,{"$f":"IF(入力ｼｰﾄ!H27=\"\",\"\",入力ｼｰﾄ!H27)","v":"八木"},null,{"$f":"IF(入力ｼｰﾄ!J27=\"\",\"\",入力ｼｰﾄ!J27)","v":"佑基"},null,{"$f":"IF(入力ｼｰﾄ!L27=\"\",\"\",入力ｼｰﾄ!L27)","v":"ヤギ"},null,{"$f":"IF(入力ｼｰﾄ!N27=\"\",\"\",入力ｼｰﾄ!N27)","v":"ユウキ"},null,{"$f":"IF(入力ｼｰﾄ!P27=\"\",\"\",入力ｼｰﾄ!P27)","v":"男子"},null,{"$f":"IF(入力ｼｰﾄ!R27=\"\",\"\",入力ｼｰﾄ!R27)","v":"３年"},null,{"$f":"IF(入力ｼｰﾄ!T27=\"\",\"\",入力ｼｰﾄ!T27)","v":1709040071}]
[11,null,null,{"$f":"IF(入力ｼｰﾄ!D28=\"\",\"\",入力ｼｰﾄ!D28)","v":18},{"$f":"IF(入力ｼｰﾄ!E28=\"\",\"\",入力ｼｰﾄ!E28)","v":""},{"$f":"IF(入力ｼｰﾄ!F28=\"\",\"\",入力ｼｰﾄ!F28)","v":"ＦＰ"},null,{"$f":"IF(入力ｼｰﾄ!H28=\"\",\"\",入力ｼｰﾄ!H28)","v":"伊藤"},null,{"$f":"IF(入力ｼｰﾄ!J28=\"\",\"\",入力ｼｰﾄ!J28)","v":"勘太"},null,{"$f":"IF(入力ｼｰﾄ!L28=\"\",\"\",入力ｼｰﾄ!L28)","v":"イトウ"},null,{"$f":"IF(入力ｼｰﾄ!N28=\"\",\"\",入力ｼｰﾄ!N28)","v":"カンタ"},null,{"$f":"IF(入力ｼｰﾄ!P28=\"\",\"\",入力ｼｰﾄ!P28)","v":"男子"},null,{"$f":"IF(入力ｼｰﾄ!R28=\"\",\"\",入力ｼｰﾄ!R28)","v":"４年"},null,{"$f":"IF(入力ｼｰﾄ!T28=\"\",\"\",入力ｼｰﾄ!T28)","v":1608010079}]
[12,null,null,{"$f":"IF(入力ｼｰﾄ!D29=\"\",\"\",入力ｼｰﾄ!D29)","v":19},{"$f":"IF(入力ｼｰﾄ!E29=\"\",\"\",入力ｼｰﾄ!E29)","v":""},{"$f":"IF(入力ｼｰﾄ!F29=\"\",\"\",入力ｼｰﾄ!F29)","v":"ＦＰ"},null,{"$f":"IF(入力ｼｰﾄ!H29=\"\",\"\",入力ｼｰﾄ!H29)","v":"中筋"},null,{"$f":"IF(入力ｼｰﾄ!J29=\"\",\"\",入力ｼｰﾄ!J29)","v":"佑"},null,{"$f":"IF(入力ｼｰﾄ!L29=\"\",\"\",入力ｼｰﾄ!L29)","v":"ナカスジ"},null,{"$f":"IF(入力ｼｰﾄ!N29=\"\",\"\",入力ｼｰﾄ!N29)","v":"ユウ"},null,{"$f":"IF(入力ｼｰﾄ!P29=\"\",\"\",入力ｼｰﾄ!P29)","v":"男子"},null,{"$f":"IF(入力ｼｰﾄ!R29=\"\",\"\",入力ｼｰﾄ!R29)","v":"４年"},null,{"$f":"IF(入力ｼｰﾄ!T29=\"\",\"\",入力ｼｰﾄ!T29)","v":1606090076}]
[13,null,null,{"$f":"IF(入力ｼｰﾄ!D30=\"\",\"\",入力ｼｰﾄ!D30)","v":27},{"$f":"IF(入力ｼｰﾄ!E30=\"\",\"\",入力ｼｰﾄ!E30)","v":""},{"$f":"IF(入力ｼｰﾄ!F30=\"\",\"\",入力ｼｰﾄ!F30)","v":"ＦＰ"},null,{"$f":"IF(入力ｼｰﾄ!H30=\"\",\"\",入力ｼｰﾄ!H30)","v":"高田"},null,{"$f":"IF(入力ｼｰﾄ!J30=\"\",\"\",入力ｼｰﾄ!J30)","v":"陸翔"},null,{"$f":"IF(入力ｼｰﾄ!L30=\"\",\"\",入力ｼｰﾄ!L30)","v":"タカダ"},null,{"$f":"IF(入力ｼｰﾄ!N30=\"\",\"\",入力ｼｰﾄ!N30)","v":"リクト"},null,{"$f":"IF(入力ｼｰﾄ!P30=\"\",\"\",入力ｼｰﾄ!P30)","v":"男子"},null,{"$f":"IF(入力ｼｰﾄ!R30=\"\",\"\",入力ｼｰﾄ!R30)","v":"３年"},null,{"$f":"IF(入力ｼｰﾄ!T30=\"\",\"\",入力ｼｰﾄ!T30)","v":1705120056}]
[14,null,null,{"$f":"IF(入力ｼｰﾄ!D31=\"\",\"\",入力ｼｰﾄ!D31)","v":29},{"$f":"IF(入力ｼｰﾄ!E31=\"\",\"\",入力ｼｰﾄ!E31)","v":""},{"$f":"IF(入力ｼｰﾄ!F31=\"\",\"\",入力ｼｰﾄ!F31)","v":"ＦＰ"},null,{"$f":"IF(入力ｼｰﾄ!H31=\"\",\"\",入力ｼｰﾄ!H31)","v":"三村"},null,{"$f":"IF(入力ｼｰﾄ!J31=\"\",\"\",入力ｼｰﾄ!J31)","v":"琉晟"},null,{"$f":"IF(入力ｼｰﾄ!L31=\"\",\"\",入力ｼｰﾄ!L31)","v":"ミムラ"},null,{"$f":"IF(入力ｼｰﾄ!N31=\"\",\"\",入力ｼｰﾄ!N31)","v":"リュウセイ"},null,{"$f":"IF(入力ｼｰﾄ!P31=\"\",\"\",入力ｼｰﾄ!P31)","v":"男子"},null,{"$f":"IF(入力ｼｰﾄ!R31=\"\",\"\",入力ｼｰﾄ!R31)","v":"３年"},null,{"$f":"IF(入力ｼｰﾄ!T31=\"\",\"\",入力ｼｰﾄ!T31)","v":1704050081}]
[15,null,null,{"$f":"IF(入力ｼｰﾄ!D32=\"\",\"\",入力ｼｰﾄ!D32)","v":30},{"$f":"IF(入力ｼｰﾄ!E32=\"\",\"\",入力ｼｰﾄ!E32)","v":""},{"$f":"IF(入力ｼｰﾄ!F32=\"\",\"\",入力ｼｰﾄ!F32)","v":"ＦＰ"},null,{"$f":"IF(入力ｼｰﾄ!H32=\"\",\"\",入力ｼｰﾄ!H32)","v":"山本"},null,{"$f":"IF(入力ｼｰﾄ!J32=\"\",\"\",入力ｼｰﾄ!J32)","v":"偉心"},null,{"$f":"IF(入力ｼｰﾄ!L32=\"\",\"\",入力ｼｰﾄ!L32)","v":"ヤマモト"},null,{"$f":"IF(入力ｼｰﾄ!N32=\"\",\"\",入力ｼｰﾄ!N32)","v":"イシン"},null,{"$f":"IF(入力ｼｰﾄ!P32=\"\",\"\",入力ｼｰﾄ!P32)","v":"男子"},null,{"$f":"IF(入力ｼｰﾄ!R32=\"\",\"\",入力ｼｰﾄ!R32)","v":"３年"},null,{"$f":"IF(入力ｼｰﾄ!T32=\"\",\"\",入力ｼｰﾄ!T32)","v":1712250061}]
[16,null,null,{"$f":"IF(入力ｼｰﾄ!D33=\"\",\"\",入力ｼｰﾄ!D33)","v":32},{"$f":"IF(入力ｼｰﾄ!E33=\"\",\"\",入力ｼｰﾄ!E33)","v":""},{"$f":"IF(入力ｼｰﾄ!F33=\"\",\"\",入力ｼｰﾄ!F33)","v":"ＦＰ"},null,{"$f":"IF(入力ｼｰﾄ!H33=\"\",\"\",入力ｼｰﾄ!H33)","v":"楠田"},null,{"$f":"IF(入力ｼｰﾄ!J33=\"\",\"\",入力ｼｰﾄ!J33)","v":"朝陽"},null,{"$f":"IF(入力ｼｰﾄ!L33=\"\",\"\",入力ｼｰﾄ!L33)","v":"クスダ"},null,{"$f":"IF(入力ｼｰﾄ!N33=\"\",\"\",入力ｼｰﾄ!N33)","v":"アサヒ"},null,{"$f":"IF(入力ｼｰﾄ!P33=\"\",\"\",入力ｼｰﾄ!P33)","v":"男子"},null,{"$f":"IF(入力ｼｰﾄ!R33=\"\",\"\",入力ｼｰﾄ!R33)","v":"３年"},null,{"$f":"IF(入力ｼｰﾄ!T33=\"\",\"\",入力ｼｰﾄ!T33)","v":1709150013}]
[17,null,null,{"$f":"IF(入力ｼｰﾄ!D34=\"\",\"\",入力ｼｰﾄ!D34)","v":""},{"$f":"IF(入力ｼｰﾄ!E34=\"\",\"\",入力ｼｰﾄ!E34)","v":""},{"$f":"IF(入力ｼｰﾄ!F34=\"\",\"\",入力ｼｰﾄ!F34)","v":""},null,{"$f":"IF(入力ｼｰﾄ!H34=\"\",\"\",入力ｼｰﾄ!H34)","v":""},null,{"$f":"IF(入力ｼｰﾄ!J34=\"\",\"\",入力ｼｰﾄ!J34)","v":""},null,{"$f":"IF(入力ｼｰﾄ!L34=\"\",\"\",入力ｼｰﾄ!L34)","v":""},null,{"$f":"IF(入力ｼｰﾄ!N34=\"\",\"\",入力ｼｰﾄ!N34)","v":""},null,{"$f":"IF(入力ｼｰﾄ!P34=\"\",\"\",入力ｼｰﾄ!P34)","v":""},null,{"$f":"IF(入力ｼｰﾄ!R34=\"\",\"\",入力ｼｰﾄ!R34)","v":""},null,{"$f":"IF(入力ｼｰﾄ!T34=\"\",\"\",入力ｼｰﾄ!T34)","v":""}]
[18,null,null,{"$f":"IF(入力ｼｰﾄ!D35=\"\",\"\",入力ｼｰﾄ!D35)","v":""},{"$f":"IF(入力ｼｰﾄ!E35=\"\",\"\",入力ｼｰﾄ!E35)","v":""},{"$f":"IF(入力ｼｰﾄ!F35=\"\",\"\",入力ｼｰﾄ!F35)","v":""},null,{"$f":"IF(入力ｼｰﾄ!H35=\"\",\"\",入力ｼｰﾄ!H35)","v":""},null,{"$f":"IF(入力ｼｰﾄ!J35=\"\",\"\",入力ｼｰﾄ!J35)","v":""},null,{"$f":"IF(入力ｼｰﾄ!L35=\"\",\"\",入力ｼｰﾄ!L35)","v":""},null,{"$f":"IF(入力ｼｰﾄ!N35=\"\",\"\",入力ｼｰﾄ!N35)","v":""},null,{"$f":"IF(入力ｼｰﾄ!P35=\"\",\"\",入力ｼｰﾄ!P35)","v":""},null,{"$f":"IF(入力ｼｰﾄ!R35=\"\",\"\",入力ｼｰﾄ!R35)","v":""},null,{"$f":"IF(入力ｼｰﾄ!T35=\"\",\"\",入力ｼｰﾄ!T35)","v":""}]
[19,null,null,{"$f":"IF(入力ｼｰﾄ!D36=\"\",\"\",入力ｼｰﾄ!D36)","v":""},{"$f":"IF(入力ｼｰﾄ!E36=\"\",\"\",入力ｼｰﾄ!E36)","v":""},{"$f":"IF(入力ｼｰﾄ!F36=\"\",\"\",入力ｼｰﾄ!F36)","v":""},null,{"$f":"IF(入力ｼｰﾄ!H36=\"\",\"\",入力ｼｰﾄ!H36)","v":""},null,{"$f":"IF(入力ｼｰﾄ!J36=\"\",\"\",入力ｼｰﾄ!J36)","v":""},null,{"$f":"IF(入力ｼｰﾄ!L36=\"\",\"\",入力ｼｰﾄ!L36)","v":""},null,{"$f":"IF(入力ｼｰﾄ!N36=\"\",\"\",入力ｼｰﾄ!N36)","v":""},null,{"$f":"IF(入力ｼｰﾄ!P36=\"\",\"\",入力ｼｰﾄ!P36)","v":""},null,{"$f":"IF(入力ｼｰﾄ!R36=\"\",\"\",入力ｼｰﾄ!R36)","v":""},null,{"$f":"IF(入力ｼｰﾄ!T36=\"\",\"\",入力ｼｰﾄ!T36)","v":""}]
[20,null,null,{"$f":"IF(入力ｼｰﾄ!D37=\"\",\"\",入力ｼｰﾄ!D37)","v":""},{"$f":"IF(入力ｼｰﾄ!E37=\"\",\"\",入力ｼｰﾄ!E37)","v":""},{"$f":"IF(入力ｼｰﾄ!F37=\"\",\"\",入力ｼｰﾄ!F37)","v":""},null,{"$f":"IF(入力ｼｰﾄ!H37=\"\",\"\",入力ｼｰﾄ!H37)","v":""},null,{"$f":"IF(入力ｼｰﾄ!J37=\"\",\"\",入力ｼｰﾄ!J37)","v":""},null,{"$f":"IF(入力ｼｰﾄ!L37=\"\",\"\",入力ｼｰﾄ!L37)","v":""},null,{"$f":"IF(入力ｼｰﾄ!N37=\"\",\"\",入力ｼｰﾄ!N37)","v":""},null,{"$f":"IF(入力ｼｰﾄ!P37=\"\",\"\",入力ｼｰﾄ!P37)","v":""},null,{"$f":"IF(入力ｼｰﾄ!R37=\"\",\"\",入力ｼｰﾄ!R37)","v":""},null,{"$f":"IF(入力ｼｰﾄ!T37=\"\",\"\",入力ｼｰﾄ!T37)","v":""}]
[21,null,null,{"$f":"IF(入力ｼｰﾄ!D38=\"\",\"\",入力ｼｰﾄ!D38)","v":""},{"$f":"IF(入力ｼｰﾄ!E38=\"\",\"\",入力ｼｰﾄ!E38)","v":""},{"$f":"IF(入力ｼｰﾄ!F38=\"\",\"\",入力ｼｰﾄ!F38)","v":""},null,{"$f":"IF(入力ｼｰﾄ!H38=\"\",\"\",入力ｼｰﾄ!H38)","v":""},null,{"$f":"IF(入力ｼｰﾄ!J38=\"\",\"\",入力ｼｰﾄ!J38)","v":""},null,{"$f":"IF(入力ｼｰﾄ!L38=\"\",\"\",入力ｼｰﾄ!L38)","v":""},null,{"$f":"IF(入力ｼｰﾄ!N38=\"\",\"\",入力ｼｰﾄ!N38)","v":""},null,{"$f":"IF(入力ｼｰﾄ!P38=\"\",\"\",入力ｼｰﾄ!P38)","v":""},null,{"$f":"IF(入力ｼｰﾄ!R38=\"\",\"\",入力ｼｰﾄ!R38)","v":""},null,{"$f":"IF(入力ｼｰﾄ!T38=\"\",\"\",入力ｼｰﾄ!T38)","v":""}]
[22,null,null,{"$f":"IF(入力ｼｰﾄ!D39=\"\",\"\",入力ｼｰﾄ!D39)","v":""},{"$f":"IF(入力ｼｰﾄ!E39=\"\",\"\",入力ｼｰﾄ!E39)","v":""},{"$f":"IF(入力ｼｰﾄ!F39=\"\",\"\",入力ｼｰﾄ!F39)","v":""},null,{"$f":"IF(入力ｼｰﾄ!H39=\"\",\"\",入力ｼｰﾄ!H39)","v":""},null,{"$f":"IF(入力ｼｰﾄ!J39=\"\",\"\",入力ｼｰﾄ!J39)","v":""},null,{"$f":"IF(入力ｼｰﾄ!L39=\"\",\"\",入力ｼｰﾄ!L39)","v":""},null,{"$f":"IF(入力ｼｰﾄ!N39=\"\",\"\",入力ｼｰﾄ!N39)","v":""},null,{"$f":"IF(入力ｼｰﾄ!P39=\"\",\"\",入力ｼｰﾄ!P39)","v":""},null,{"$f":"IF(入力ｼｰﾄ!R39=\"\",\"\",入力ｼｰﾄ!R39)","v":""},null,{"$f":"IF(入力ｼｰﾄ!T39=\"\",\"\",入力ｼｰﾄ!T39)","v":""}]
[23,null,null,{"$f":"IF(入力ｼｰﾄ!D40=\"\",\"\",入力ｼｰﾄ!D40)","v":""},{"$f":"IF(入力ｼｰﾄ!E40=\"\",\"\",入力ｼｰﾄ!E40)","v":""},{"$f":"IF(入力ｼｰﾄ!F40=\"\",\"\",入力ｼｰﾄ!F40)","v":""},null,{"$f":"IF(入力ｼｰﾄ!H40=\"\",\"\",入力ｼｰﾄ!H40)","v":""},null,{"$f":"IF(入力ｼｰﾄ!J40=\"\",\"\",入力ｼｰﾄ!J40)","v":""},null,{"$f":"IF(入力ｼｰﾄ!L40=\"\",\"\",入力ｼｰﾄ!L40)","v":""},null,{"$f":"IF(入力ｼｰﾄ!N40=\"\",\"\",入力ｼｰﾄ!N40)","v":""},null,{"$f":"IF(入力ｼｰﾄ!P40=\"\",\"\",入力ｼｰﾄ!P40)","v":""},null,{"$f":"IF(入力ｼｰﾄ!R40=\"\",\"\",入力ｼｰﾄ!R40)","v":""},null,{"$f":"IF(入力ｼｰﾄ!T40=\"\",\"\",入力ｼｰﾄ!T40)","v":""}]
[24,null,null,{"$f":"IF(入力ｼｰﾄ!D41=\"\",\"\",入力ｼｰﾄ!D41)","v":""},{"$f":"IF(入力ｼｰﾄ!E41=\"\",\"\",入力ｼｰﾄ!E41)","v":""},{"$f":"IF(入力ｼｰﾄ!F41=\"\",\"\",入力ｼｰﾄ!F41)","v":""},null,{"$f":"IF(入力ｼｰﾄ!H41=\"\",\"\",入力ｼｰﾄ!H41)","v":""},null,{"$f":"IF(入力ｼｰﾄ!J41=\"\",\"\",入力ｼｰﾄ!J41)","v":""},null,{"$f":"IF(入力ｼｰﾄ!L41=\"\",\"\",入力ｼｰﾄ!L41)","v":""},null,{"$f":"IF(入力ｼｰﾄ!N41=\"\",\"\",入力ｼｰﾄ!N41)","v":""},null,{"$f":"IF(入力ｼｰﾄ!P41=\"\",\"\",入力ｼｰﾄ!P41)","v":""},null,{"$f":"IF(入力ｼｰﾄ!R41=\"\",\"\",入力ｼｰﾄ!R41)","v":""},null,{"$f":"IF(入力ｼｰﾄ!T41=\"\",\"\",入力ｼｰﾄ!T41)","v":""}]
[25,null,null,{"$f":"IF(入力ｼｰﾄ!D42=\"\",\"\",入力ｼｰﾄ!D42)","v":""},{"$f":"IF(入力ｼｰﾄ!E42=\"\",\"\",入力ｼｰﾄ!E42)","v":""},{"$f":"IF(入力ｼｰﾄ!F42=\"\",\"\",入力ｼｰﾄ!F42)","v":""},null,{"$f":"IF(入力ｼｰﾄ!H42=\"\",\"\",入力ｼｰﾄ!H42)","v":""},null,{"$f":"IF(入力ｼｰﾄ!J42=\"\",\"\",入力ｼｰﾄ!J42)","v":""},null,{"$f":"IF(入力ｼｰﾄ!L42=\"\",\"\",入力ｼｰﾄ!L42)","v":""},null,{"$f":"IF(入力ｼｰﾄ!N42=\"\",\"\",入力ｼｰﾄ!N42)","v":""},null,{"$f":"IF(入力ｼｰﾄ!P42=\"\",\"\",入力ｼｰﾄ!P42)","v":""},null,{"$f":"IF(入力ｼｰﾄ!R42=\"\",\"\",入力ｼｰﾄ!R42)","v":""},null,{"$f":"IF(入力ｼｰﾄ!T42=\"\",\"\",入力ｼｰﾄ!T42)","v":""}]
["※ 前試合のハーフタイムまでに運営本部へ提出（第１試合は２０分前までに）"]
["※「警・停」欄は本部において記入（△:警告累積中　×:退場又は警告２回累積による出場停止）　"]

{"sheet":"提出用(記入例)","index":2,"n_rows":47,"n_cols":24,"rows_kept":47,"cut":false,"hidden":false,"merged":[[2,13,2,23],[44,17,44,18],[44,19,44,22],[7,4,7,8],[9,4,9,8],[7,18,7,22],[9,11,9,15],[44,7,44,8],[44,9,44,10],[44,11,44,12],[44,13,44,14],[44,15,44,16],[42,17,42,18],[42,19,42,22],[43,7,43,8],[43,9,43,10],[43,11,43,12],[43,13,43,14],[43,15,43,16],[43,17,43,18],[43,19,43,22],[42,7,42,8],[42,9,42,10],[42,11,42,12],[42,13,42,14],[42,15,42,16],[40,17,40,18],[40,19,40,22],[41,7,41,8],[41,9,41,10],[41,11,41,12],[41,13,41,14],[41,15,41,16],[41,17,41,18],[41,19,41,22],[40,7,40,8],[40,9,40,10],[40,11,40,12],[40,13,40,14],[40,15,40,16],[38,17,38,18],[38,19,38,22],[39,7,39,8],[39,9,39,10],[39,11,39,12],[39,13,39,14],[39,15,39,16],[39,17,39,18],[39,19,39,22],[38,7,38,8],[38,9,38,10],[38,11,38,12],[38,13,38,14],[38,15,38,16],[36,17,36,18],[36,19,36,22],[37,7,37,8],[37,9,37,10],[37,11,37,12],[37,13,37,14],[37,15,37,16],[37,17,37,18],[37,19,37,22],[36,7,36,8],[36,9,36,10],[36,11,36,12],[36,13,36,14],[36,15,36,16],[34,17,34,18],[34,19,34,22],[35,7,35,8],[35,9,35,10],[35,11,35,12],[35,13,35,14],[35,15,35,16],[35,17,35,18],[35,19,35,22],[34,7,34,8],[34,9,34,10],[34,11,34,12],[34,13,34,14],[34,15,34,16],[32,17,32,18],[32,19,32,22],[33,7,33,8],[33,9,33,10],[33,11,33,12],[33,13,33,14],[33,15,33,16],[33,17,33,18],[33,19,33,22],[32,7,32,8],[32,9,32,10],[32,11,32,12],[32,13,32,14],[32,15,32,16],[30,17,30,18],[30,19,30,22],[31,7,31,8],[31,9,31,10],[31,11,31,12],[31,13,31,14],[31,15,31,16],[31,17,31,18],[31,19,31,22],[30,7,30,8],[30,9,30,10],[30,11,30,12],[30,13,30,14],[30,15,30,16],[28,17,28,18],[28,19,28,22],[29,7,29,8],[29,9,29,10],[29,11,29,12],[29,13,29,14],[29,15,29,16],[29,17,29,18],[29,19,29,22],[28,7,28,8],[28,9,28,10],[28,11,28,12],[28,13,28,14],[28,15,28,16],[26,17,26,18],[26,19,26,22],[27,7,27,8],[27,9,27,10],[27,11,27,12],[27,13,27,14],[27,15,27,16],[27,17,27,18],[27,19,27,22],[26,7,26,8],[26,9,26,10],[26,11,26,12],[26,13,26,14],[26,15,26,16],[24,17,24,18],[24,19,24,22],[25,7,25,8],[25,9,25,10],[25,11,25,12],[25,13,25,14],[25,15,25,16],[25,17,25,18],[25,19,25,22],[24,7,24,8],[24,9,24,10],[24,11,24,12],[24,13,24,14],[24,15,24,16],[22,17,22,18],[22,19,22,22],[23,7,23,8],[23,9,23,10],[23,11,23,12],[23,13,23,14],[23,15,23,16],[23,17,23,18],[23,19,23,22],[22,7,22,8],[22,9,22,10],[22,11,22,12],[22,13,22,14],[22,15,22,16],[18,0,19,0],[20,17,20,18],[20,19,20,22],[21,7,21,8],[21,9,21,10],[21,11,21,12],[21,13,21,14],[21,15,21,16],[21,17,21,18],[21,19,21,22],[20,7,20,8],[20,9,20,10],[20,11,20,12],[20,13,20,14],[20,15,20,16],[18,5,19,5],[18,15,19,16],[18,17,19,18],[18,19,19,22],[19,7,19,8],[19,9,19,10],[19,11,19,12],[19,13,19,14],[17,1,17,2],[17,5,17,6],[17,9,17,10],[17,13,17,14],[17,17,17,18],[18,3,18,4],[18,7,18,10],[18,11,18,14],[18,6,19,6],[18,1,18,2],[15,1,15,2],[15,5,15,6],[15,9,15,10],[15,13,15,14],[15,17,15,18],[0,0,0,23],[2,0,2,2],[2,3,2,5],[3,0,3,2],[12,0,14,2],[12,3,12,10],[12,11,12,18],[12,19,17,23],[13,3,13,6],[6,0,11,2],[4,0,4,2],[4,3,4,11],[4,12,4,14],[4,15,4,23],[16,1,16,2],[16,5,16,6],[16,9,16,10],[16,13,16,14],[16,17,16,18],[3,3,3,16],[3,17,3,19],[3,20,3,23],[5,0,5,2],[5,21,5,23],[13,7,13,10],[13,11,13,14],[13,15,13,18],[14,5,14,6],[14,9,14,10],[14,13,14,14],[14,17,14,18],[6,19,6,22],[8,12,8,15],[6,12,6,15],[8,5,8,8],[6,5,6,8],[7,11,7,15],[8,19,8,22],[9,18,9,22],[10,3,11,23]]}
[{"$f":"'提出用(入力不要)'!A1:X1","v":"2026 東播リーグ U－10 チーム・選手 登録表（本部提出用）"}]
[]
["部",null,null,{"$f":"IF(入力ｼｰﾄ!D3=\"\",\"\",入力ｼｰﾄ!D3)","v":"－"},null,null,null,null,null,null,null,null,null,"提出時に　　　欄に文字､\"○\"を記載すること"]
["チーム名",null,null,{"$f":"IF(入力ｼｰﾄ!D4=\"\",\"\",入力ｼｰﾄ!D4)","v":"フロールＦＣ"},null,null,null,null,null,null,null,null,null,null,null,null,null,"チーム番号",null,null,{"$f":"IF(入力ｼｰﾄ!U4=\"\",\"\",入力ｼｰﾄ!U4)","v":"1030594"}]
["開催日時",null,null,"　20XX 年　4 月 XX 日　 Kickoff:  10 時 00 分",null,null,null,null,null,null,null,null,"対戦相手",null,null,"××サッカークラブ"]
["対戦相手",null,null,"日岡山公園Ｇ　・　神鋼高砂Ｇ　・　ｻﾝ･ｽﾎﾟｰﾂﾗﾝﾄﾞいなみＧ　・　伊保ｽﾎﾟｰﾂ広場",null,null,null,null,null,null,null,null,null,null,null,null,null,null,null,null,null,"Ａ　・　Ｂ"]
["\n監　　督\nコ ー チ",null,null,"ベンチ入",{"$f":"IF(入力ｼｰﾄ!D7=\"\",\"\",入力ｼｰﾄ!D7)","v":"1st"},{"$f":"IF(入力ｼｰﾄ!E7=\"\",\"\",入力ｼｰﾄ!E7)","v":"藤本　圭太"},null,null,null,"ﾁｪｯｸ","ベンチ入",{"$f":"IF(入力ｼｰﾄ!K7=\"\",\"\",入力ｼｰﾄ!K7)","v":"2nd"},{"$f":"IF(入力ｼｰﾄ!L7=\"\",\"\",入力ｼｰﾄ!L7)","v":"鎌田　裕文"},null,null,null,"ﾁｪｯｸ","ベンチ入",{"$f":"IF(入力ｼｰﾄ!R7=\"\",\"\",入力ｼｰﾄ!R7)","v":"3rd"},{"$f":"IF(入力ｼｰﾄ!S7=\"\",\"\",入力ｼｰﾄ!S7)","v":"浜西　潤一"},null,null,null,"ﾁｪｯｸ"]
[null,null,null,"〇",{"$f":"IF(入力ｼｰﾄ!D8=\"\",\"\",入力ｼｰﾄ!D8&\" ・ \"&入力ｼｰﾄ!F8)","v":"Ｂ級 ・ C000332909"},null,null,null,null,null,null,{"$f":"IF(入力ｼｰﾄ!K8=\"\",\"\",入力ｼｰﾄ!K8&\" ・ \"&入力ｼｰﾄ!M8)","v":"Ｄ級 ・ C000697624"},null,null,null,null,null,"〇",{"$f":"IF(入力ｼｰﾄ!R8=\"\",\"\",入力ｼｰﾄ!R8&\" ・ \"&入力ｼｰﾄ!T8)","v":"Ｄ級 ・ C000704663"}]
[null,null,null,"ベンチ入",{"$f":"IF(入力ｼｰﾄ!D9=\"\",\"\",入力ｼｰﾄ!D9)","v":"4th"},{"$f":"IF(入力ｼｰﾄ!E9=\"\",\"\",入力ｼｰﾄ!E9)","v":""},null,null,null,"ﾁｪｯｸ","ベンチ入",{"$f":"IF(入力ｼｰﾄ!K9=\"\",\"\",入力ｼｰﾄ!K9)","v":"5th"},{"$f":"IF(入力ｼｰﾄ!L9=\"\",\"\",入力ｼｰﾄ!L9)","v":""},null,null,null,"ﾁｪｯｸ","ベンチ入",{"$f":"IF(入力ｼｰﾄ!R9=\"\",\"\",入力ｼｰﾄ!R9)","v":"6th"},{"$f":"IF(入力ｼｰﾄ!S9=\"\",\"\",入力ｼｰﾄ!S9)","v":""},null,null,null,"ﾁｪｯｸ"]
[null,null,null,"〇",{"$f":"IF(入力ｼｰﾄ!D10=\"\",\"\",入力ｼｰﾄ!D10&\" ・ \"&入力ｼｰﾄ!F10)","v":""},null,null,null,null,null,null,{"$f":"IF(入力ｼｰﾄ!K10=\"\",\"\",入力ｼｰﾄ!K10&\" ・ \"&入力ｼｰﾄ!M10)","v":""},null,null,null,null,null,null,{"$f":"IF(入力ｼｰﾄ!R10=\"\",\"\",入力ｼｰﾄ!R10&\" ・ \"&入力ｼｰﾄ!T10)","v":""}]
[null,null,null," ① 指導者は全員有資格者であること\n ② ベンチ入りは登録された指導者のうち３名以内とし、胸に資格者証を掲示すること"]
[]
["ユニフォーム",null,null,"正（１ｓｔ）",null,null,null,null,null,null,null,"副（２ｎｄ）",null,null,null,null,null,null,null,"・ユニフォームはＦＰ、\n　ＧＫとも必ず２着色違\n　い（同系色及び黒を避\n　ける）を用意すること\n・チーム内でＧＫとＦＰ\n　の色が重ならないこと\n（パンツ、ストッキング\n　とも）"]
[null,null,null,"フィールドプレーヤー",null,null,null,"ゴールキーパー",null,null,null,"フィールドプレーヤー",null,null,null,"ゴールキーパー"]
[null,null,null,"ﾁｪｯｸ","着用","色",null,"ﾁｪｯｸ","着用","色",null,"ﾁｪｯｸ","着用","色",null,"ﾁｪｯｸ","着用","色"]
[null,"シ ャ ツ",null,null,null,{"$f":"IF(入力ｼｰﾄ!D13=\"\",\"\",入力ｼｰﾄ!D13)","v":"橙"},null,null,"〇",{"$f":"IF(入力ｼｰﾄ!H13=\"\",\"\",入力ｼｰﾄ!H13)","v":"黄"},null,null,"〇",{"$f":"IF(入力ｼｰﾄ!L13=\"\",\"\",入力ｼｰﾄ!L13)","v":"水"},null,null,null,{"$f":"IF(入力ｼｰﾄ!P13=\"\",\"\",入力ｼｰﾄ!P13)","v":"赤"}]
[null,"パ ン ツ",null,null,null,{"$f":"IF(入力ｼｰﾄ!D14=\"\",\"\",入力ｼｰﾄ!D14)","v":"紺"},null,null,"〇",{"$f":"IF(入力ｼｰﾄ!H14=\"\",\"\",入力ｼｰﾄ!H14)","v":"黄"},null,null,"〇",{"$f":"IF(入力ｼｰﾄ!L14=\"\",\"\",入力ｼｰﾄ!L14)","v":"白"},null,null,null,{"$f":"IF(入力ｼｰﾄ!P14=\"\",\"\",入力ｼｰﾄ!P14)","v":"赤"}]
[null,"ソックス",null,null,null,{"$f":"IF(入力ｼｰﾄ!D15=\"\",\"\",入力ｼｰﾄ!D15)","v":"紺"},null,null,"〇",{"$f":"IF(入力ｼｰﾄ!H15=\"\",\"\",入力ｼｰﾄ!H15)","v":"黄"},null,null,"〇",{"$f":"IF(入力ｼｰﾄ!L15=\"\",\"\",入力ｼｰﾄ!L15)","v":"青"},null,null,null,{"$f":"IF(入力ｼｰﾄ!P15=\"\",\"\",入力ｼｰﾄ!P15)","v":"赤"}]
[null,"登録選手",null,"背番号",null,"ポ ジ\nション","警\n・停","選手氏名",null,null,null,"フリガナ",null,null,null,"性　別",null,"学　年",null,"登　録　番　号　"]
[null,"ベンチ入","先発",null,"CAP",null,null,"姓",null,"名",null,"姓",null,"名",null,null,null,null,null,null,null,null,null,"ﾁｪｯｸ"]
[1,"〇","〇",{"$f":"IF(入力ｼｰﾄ!D18=\"\",\"\",入力ｼｰﾄ!D18)","v":1},{"$f":"IF(入力ｼｰﾄ!E18=\"\",\"\",入力ｼｰﾄ!E18)","v":""},{"$f":"IF(入力ｼｰﾄ!F18=\"\",\"\",入力ｼｰﾄ!F18)","v":"GK/FP"},null,{"$f":"IF(入力ｼｰﾄ!H18=\"\",\"\",入力ｼｰﾄ!H18)","v":"鎌田"},null,{"$f":"IF(入力ｼｰﾄ!J18=\"\",\"\",入力ｼｰﾄ!J18)","v":"隼羽"},null,{"$f":"IF(入力ｼｰﾄ!L18=\"\",\"\",入力ｼｰﾄ!L18)","v":"カマダ"},null,{"$f":"IF(入力ｼｰﾄ!N18=\"\",\"\",入力ｼｰﾄ!N18)","v":"シュント"},null,{"$f":"IF(入力ｼｰﾄ!P18=\"\",\"\",入力ｼｰﾄ!P18)","v":"男子"},null,{"$f":"IF(入力ｼｰﾄ!R18=\"\",\"\",入力ｼｰﾄ!R18)","v":"３年"},null,{"$f":"IF(入力ｼｰﾄ!T18=\"\",\"\",入力ｼｰﾄ!T18)","v":1708210056}]
[2,"〇",null,{"$f":"IF(入力ｼｰﾄ!D19=\"\",\"\",入力ｼｰﾄ!D19)","v":3},{"$f":"IF(入力ｼｰﾄ!E19=\"\",\"\",入力ｼｰﾄ!E19)","v":""},{"$f":"IF(入力ｼｰﾄ!F19=\"\",\"\",入力ｼｰﾄ!F19)","v":"ＦＰ"},null,{"$f":"IF(入力ｼｰﾄ!H19=\"\",\"\",入力ｼｰﾄ!H19)","v":"前田"},null,{"$f":"IF(入力ｼｰﾄ!J19=\"\",\"\",入力ｼｰﾄ!J19)","v":"陽太"},null,{"$f":"IF(入力ｼｰﾄ!L19=\"\",\"\",入力ｼｰﾄ!L19)","v":"マエダ"},null,{"$f":"IF(入力ｼｰﾄ!N19=\"\",\"\",入力ｼｰﾄ!N19)","v":"ヒナタ"},null,{"$f":"IF(入力ｼｰﾄ!P19=\"\",\"\",入力ｼｰﾄ!P19)","v":"男子"},null,{"$f":"IF(入力ｼｰﾄ!R19=\"\",\"\",入力ｼｰﾄ!R19)","v":"４年"},null,{"$f":"IF(入力ｼｰﾄ!T19=\"\",\"\",入力ｼｰﾄ!T19)","v":1610050146}]
[3,"〇","〇",{"$f":"IF(入力ｼｰﾄ!D20=\"\",\"\",入力ｼｰﾄ!D20)","v":4},{"$f":"IF(入力ｼｰﾄ!E20=\"\",\"\",入力ｼｰﾄ!E20)","v":""},{"$f":"IF(入力ｼｰﾄ!F20=\"\",\"\",入力ｼｰﾄ!F20)","v":"ＦＰ"},null,{"$f":"IF(入力ｼｰﾄ!H20=\"\",\"\",入力ｼｰﾄ!H20)","v":"牛尾"},null,{"$f":"IF(入力ｼｰﾄ!J20=\"\",\"\",入力ｼｰﾄ!J20)","v":"佳也"},null,{"$f":"IF(入力ｼｰﾄ!L20=\"\",\"\",入力ｼｰﾄ!L20)","v":"ウシオ"},null,{"$f":"IF(入力ｼｰﾄ!N20=\"\",\"\",入力ｼｰﾄ!N20)","v":"ヨシナリ"},null,{"$f":"IF(入力ｼｰﾄ!P20=\"\",\"\",入力ｼｰﾄ!P20)","v":"男子"},null,{"$f":"IF(入力ｼｰﾄ!R20=\"\",\"\",入力ｼｰﾄ!R20)","v":"４年"},null,{"$f":"IF(入力ｼｰﾄ!T20=\"\",\"\",入力ｼｰﾄ!T20)","v":1604280009}]
[4,"〇","〇",{"$f":"IF(入力ｼｰﾄ!D21=\"\",\"\",入力ｼｰﾄ!D21)","v":6},{"$f":"IF(入力ｼｰﾄ!E21=\"\",\"\",入力ｼｰﾄ!E21)","v":""},{"$f":"IF(入力ｼｰﾄ!F21=\"\",\"\",入力ｼｰﾄ!F21)","v":"ＦＰ"},null,{"$f":"IF(入力ｼｰﾄ!H21=\"\",\"\",入力ｼｰﾄ!H21)","v":"水野"},null,{"$f":"IF(入力ｼｰﾄ!J21=\"\",\"\",入力ｼｰﾄ!J21)","v":"大地"},null,{"$f":"IF(入力ｼｰﾄ!L21=\"\",\"\",入力ｼｰﾄ!L21)","v":"ミズノ"},null,{"$f":"IF(入力ｼｰﾄ!N21=\"\",\"\",入力ｼｰﾄ!N21)","v":"ダイチ"},null,{"$f":"IF(入力ｼｰﾄ!P21=\"\",\"\",入力ｼｰﾄ!P21)","v":"男子"},null,{"$f":"IF(入力ｼｰﾄ!R21=\"\",\"\",入力ｼｰﾄ!R21)","v":"４年"},null,{"$f":"IF(入力ｼｰﾄ!T21=\"\",\"\",入力ｼｰﾄ!T21)","v":1608160178}]
[5,"〇","〇",{"$f":"IF(入力ｼｰﾄ!D22=\"\",\"\",入力ｼｰﾄ!D22)","v":7},{"$f":"IF(入力ｼｰﾄ!E22=\"\",\"\",入力ｼｰﾄ!E22)","v":""},{"$f":"IF(入力ｼｰﾄ!F22=\"\",\"\",入力ｼｰﾄ!F22)","v":"ＦＰ"},null,{"$f":"IF(入力ｼｰﾄ!H22=\"\",\"\",入力ｼｰﾄ!H22)","v":"浜西"},null,{"$f":"IF(入力ｼｰﾄ!J22=\"\",\"\",入力ｼｰﾄ!J22)","v":"遥斗"},null,{"$f":"IF(入力ｼｰﾄ!L22=\"\",\"\",入力ｼｰﾄ!L22)","v":"ハマニシ"},null,{"$f":"IF(入力ｼｰﾄ!N22=\"\",\"\",入力ｼｰﾄ!N22)","v":"ハルト"},null,{"$f":"IF(入力ｼｰﾄ!P22=\"\",\"\",入力ｼｰﾄ!P22)","v":"男子"},null,{"$f":"IF(入力ｼｰﾄ!R22=\"\",\"\",入力ｼｰﾄ!R22)","v":"４年"},null,{"$f":"IF(入力ｼｰﾄ!T22=\"\",\"\",入力ｼｰﾄ!T22)","v":1609080088}]
[6,null,null,{"$f":"IF(入力ｼｰﾄ!D23=\"\",\"\",入力ｼｰﾄ!D23)","v":8},{"$f":"IF(入力ｼｰﾄ!E23=\"\",\"\",入力ｼｰﾄ!E23)","v":""},{"$f":"IF(入力ｼｰﾄ!F23=\"\",\"\",入力ｼｰﾄ!F23)","v":"ＦＰ"},null,{"$f":"IF(入力ｼｰﾄ!H23=\"\",\"\",入力ｼｰﾄ!H23)","v":"龍田"},null,{"$f":"IF(入力ｼｰﾄ!J23=\"\",\"\",入力ｼｰﾄ!J23)","v":"朋哉"},null,{"$f":"IF(入力ｼｰﾄ!L23=\"\",\"\",入力ｼｰﾄ!L23)","v":"リョウダ"},null,{"$f":"IF(入力ｼｰﾄ!N23=\"\",\"\",入力ｼｰﾄ!N23)","v":"トモヤ"},null,{"$f":"IF(入力ｼｰﾄ!P23=\"\",\"\",入力ｼｰﾄ!P23)","v":"男子"},null,{"$f":"IF(入力ｼｰﾄ!R23=\"\",\"\",入力ｼｰﾄ!R23)","v":"４年"},null,{"$f":"IF(入力ｼｰﾄ!T23=\"\",\"\",入力ｼｰﾄ!T23)","v":1604200087}]
[7,"〇","〇",{"$f":"IF(入力ｼｰﾄ!D24=\"\",\"\",入力ｼｰﾄ!D24)","v":9},{"$f":"IF(入力ｼｰﾄ!E24=\"\",\"\",入力ｼｰﾄ!E24)","v":""},{"$f":"IF(入力ｼｰﾄ!F24=\"\",\"\",入力ｼｰﾄ!F24)","v":"ＦＰ"},null,{"$f":"IF(入力ｼｰﾄ!H24=\"\",\"\",入力ｼｰﾄ!H24)","v":"山崎"},null,{"$f":"IF(入力ｼｰﾄ!J24=\"\",\"\",入力ｼｰﾄ!J24)","v":"真太朗"},null,{"$f":"IF(入力ｼｰﾄ!L24=\"\",\"\",入力ｼｰﾄ!L24)","v":"ヤマザキ"},null,{"$f":"IF(入力ｼｰﾄ!N24=\"\",\"\",入力ｼｰﾄ!N24)","v":"シンタロウ"},null,{"$f":"IF(入力ｼｰﾄ!P24=\"\",\"\",入力ｼｰﾄ!P24)","v":"男子"},null,{"$f":"IF(入力ｼｰﾄ!R24=\"\",\"\",入力ｼｰﾄ!R24)","v":"４年"},null,{"$f":"IF(入力ｼｰﾄ!T24=\"\",\"\",入力ｼｰﾄ!T24)","v":1608280045}]
[8,"〇",null,{"$f":"IF(入力ｼｰﾄ!D25=\"\",\"\",入力ｼｰﾄ!D25)","v":10},{"$f":"IF(入力ｼｰﾄ!E25=\"\",\"\",入力ｼｰﾄ!E25)","v":"◎"},{"$f":"IF(入力ｼｰﾄ!F25=\"\",\"\",入力ｼｰﾄ!F25)","v":"ＦＰ"},null,{"$f":"IF(入力ｼｰﾄ!H25=\"\",\"\",入力ｼｰﾄ!H25)","v":"土屋"},null,{"$f":"IF(入力ｼｰﾄ!J25=\"\",\"\",入力ｼｰﾄ!J25)","v":"亮太"},null,{"$f":"IF(入力ｼｰﾄ!L25=\"\",\"\",入力ｼｰﾄ!L25)","v":"ツチヤ"},null,{"$f":"IF(入力ｼｰﾄ!N25=\"\",\"\",入力ｼｰﾄ!N25)","v":"リョウタ"},null,{"$f":"IF(入力ｼｰﾄ!P25=\"\",\"\",入力ｼｰﾄ!P25)","v":"男子"},null,{"$f":"IF(入力ｼｰﾄ!R25=\"\",\"\",入力ｼｰﾄ!R25)","v":"４年"},null,{"$f":"IF(入力ｼｰﾄ!T25=\"\",\"\",入力ｼｰﾄ!T25)","v":1608120075}]
[9,null,null,{"$f":"IF(入力ｼｰﾄ!D26=\"\",\"\",入力ｼｰﾄ!D26)","v":11},{"$f":"IF(入力ｼｰﾄ!E26=\"\",\"\",入力ｼｰﾄ!E26)","v":""},{"$f":"IF(入力ｼｰﾄ!F26=\"\",\"\",入力ｼｰﾄ!F26)","v":"ＦＰ"},null,{"$f":"IF(入力ｼｰﾄ!H26=\"\",\"\",入力ｼｰﾄ!H26)","v":"表"},null,{"$f":"IF(入力ｼｰﾄ!J26=\"\",\"\",入力ｼｰﾄ!J26)","v":"陽奏"},null,{"$f":"IF(入力ｼｰﾄ!L26=\"\",\"\",入力ｼｰﾄ!L26)","v":"オモテ"},null,{"$f":"IF(入力ｼｰﾄ!N26=\"\",\"\",入力ｼｰﾄ!N26)","v":"ヒナタ"},null,{"$f":"IF(入力ｼｰﾄ!P26=\"\",\"\",入力ｼｰﾄ!P26)","v":"男子"},null,{"$f":"IF(入力ｼｰﾄ!R26=\"\",\"\",入力ｼｰﾄ!R26)","v":"４年"},null,{"$f":"IF(入力ｼｰﾄ!T26=\"\",\"\",入力ｼｰﾄ!T26)","v":1607250090}]
[10,"〇","〇",{"$f":"IF(入力ｼｰﾄ!D27=\"\",\"\",入力ｼｰﾄ!D27)","v":15},{"$f":"IF(入力ｼｰﾄ!E27=\"\",\"\",入力ｼｰﾄ!E27)","v":""},{"$f":"IF(入力ｼｰﾄ!F27=\"\",\"\",入力ｼｰﾄ!F27)","v":"ＦＰ"},null,{"$f":"IF(入力ｼｰﾄ!H27=\"\",\"\",入力ｼｰﾄ!H27)","v":"八木"},null,{"$f":"IF(入力ｼｰﾄ!J27=\"\",\"\",入力ｼｰﾄ!J27)","v":"佑基"},null,{"$f":"IF(入力ｼｰﾄ!L27=\"\",\"\",入力ｼｰﾄ!L27)","v":"ヤギ"},null,{"$f":"IF(入力ｼｰﾄ!N27=\"\",\"\",入力ｼｰﾄ!N27)","v":"ユウキ"},null,{"$f":"IF(入力ｼｰﾄ!P27=\"\",\"\",入力ｼｰﾄ!P27)","v":"男子"},null,{"$f":"IF(入力ｼｰﾄ!R27=\"\",\"\",入力ｼｰﾄ!R27)","v":"３年"},null,{"$f":"IF(入力ｼｰﾄ!T27=\"\",\"\",入力ｼｰﾄ!T27)","v":1709040071}]
[11,"〇","〇",{"$f":"IF(入力ｼｰﾄ!D28=\"\",\"\",入力ｼｰﾄ!D28)","v":18},{"$f":"IF(入力ｼｰﾄ!E28=\"\",\"\",入力ｼｰﾄ!E28)","v":""},{"$f":"IF(入力ｼｰﾄ!F28=\"\",\"\",入力ｼｰﾄ!F28)","v":"ＦＰ"},null,{"$f":"IF(入力ｼｰﾄ!H28=\"\",\"\",入力ｼｰﾄ!H28)","v":"伊藤"},null,{"$f":"IF(入力ｼｰﾄ!J28=\"\",\"\",入力ｼｰﾄ!J28)","v":"勘太"},null,{"$f":"IF(入力ｼｰﾄ!L28=\"\",\"\",入力ｼｰﾄ!L28)","v":"イトウ"},null,{"$f":"IF(入力ｼｰﾄ!N28=\"\",\"\",入力ｼｰﾄ!N28)","v":"カンタ"},null,{"$f":"IF(入力ｼｰﾄ!P28=\"\",\"\",入力ｼｰﾄ!P28)","v":"男子"},null,{"$f":"IF(入力ｼｰﾄ!R28=\"\",\"\",入力ｼｰﾄ!R28)","v":"４年"},null,{"$f":"IF(入力ｼｰﾄ!T28=\"\",\"\",入力ｼｰﾄ!T28)","v":1608010079}]
[12,"〇","〇",{"$f":"IF(入力ｼｰﾄ!D29=\"\",\"\",入力ｼｰﾄ!D29)","v":19},{"$f":"IF(入力ｼｰﾄ!E29=\"\",\"\",入力ｼｰﾄ!E29)","v":""},{"$f":"IF(入力ｼｰﾄ!F29=\"\",\"\",入力ｼｰﾄ!F29)","v":"ＦＰ"},null,{"$f":"IF(入力ｼｰﾄ!H29=\"\",\"\",入力ｼｰﾄ!H29)","v":"中筋"},null,{"$f":"IF(入力ｼｰﾄ!J29=\"\",\"\",入力ｼｰﾄ!J29)","v":"佑"},null,{"$f":"IF(入力ｼｰﾄ!L29=\"\",\"\",入力ｼｰﾄ!L29)","v":"ナカスジ"},null,{"$f":"IF(入力ｼｰﾄ!N29=\"\",\"\",入力ｼｰﾄ!N29)","v":"ユウ"},null,{"$f":"IF(入力ｼｰﾄ!P29=\"\",\"\",入力ｼｰﾄ!P29)","v":"男子"},null,{"$f":"IF(入力ｼｰﾄ!R29=\"\",\"\",入力ｼｰﾄ!R29)","v":"４年"},null,{"$f":"IF(入力ｼｰﾄ!T29=\"\",\"\",入力ｼｰﾄ!T29)","v":1606090076}]
[13,"〇",null,{"$f":"IF(入力ｼｰﾄ!D30=\"\",\"\",入力ｼｰﾄ!D30)","v":27},{"$f":"IF(入力ｼｰﾄ!E30=\"\",\"\",入力ｼｰﾄ!E30)","v":""},{"$f":"IF(入力ｼｰﾄ!F30=\"\",\"\",入力ｼｰﾄ!F30)","v":"ＦＰ"},null,{"$f":"IF(入力ｼｰﾄ!H30=\"\",\"\",入力ｼｰﾄ!H30)","v":"高田"},null,{"$f":"IF(入力ｼｰﾄ!J30=\"\",\"\",入力ｼｰﾄ!J30)","v":"陸翔"},null,{"$f":"IF(入力ｼｰﾄ!L30=\"\",\"\",入力ｼｰﾄ!L30)","v":"タカダ"},null,{"$f":"IF(入力ｼｰﾄ!N30=\"\",\"\",入力ｼｰﾄ!N30)","v":"リクト"},null,{"$f":"IF(入力ｼｰﾄ!P30=\"\",\"\",入力ｼｰﾄ!P30)","v":"男子"},null,{"$f":"IF(入力ｼｰﾄ!R30=\"\",\"\",入力ｼｰﾄ!R30)","v":"３年"},null,{"$f":"IF(入力ｼｰﾄ!T30=\"\",\"\",入力ｼｰﾄ!T30)","v":1705120056}]
[14,null,null,{"$f":"IF(入力ｼｰﾄ!D31=\"\",\"\",入力ｼｰﾄ!D31)","v":29},{"$f":"IF(入力ｼｰﾄ!E31=\"\",\"\",入力ｼｰﾄ!E31)","v":""},{"$f":"IF(入力ｼｰﾄ!F31=\"\",\"\",入力ｼｰﾄ!F31)","v":"ＦＰ"},null,{"$f":"IF(入力ｼｰﾄ!H31=\"\",\"\",入力ｼｰﾄ!H31)","v":"三村"},null,{"$f":"IF(入力ｼｰﾄ!J31=\"\",\"\",入力ｼｰﾄ!J31)","v":"琉晟"},null,{"$f":"IF(入力ｼｰﾄ!L31=\"\",\"\",入力ｼｰﾄ!L31)","v":"ミムラ"},null,{"$f":"IF(入力ｼｰﾄ!N31=\"\",\"\",入力ｼｰﾄ!N31)","v":"リュウセイ"},null,{"$f":"IF(入力ｼｰﾄ!P31=\"\",\"\",入力ｼｰﾄ!P31)","v":"男子"},null,{"$f":"IF(入力ｼｰﾄ!R31=\"\",\"\",入力ｼｰﾄ!R31)","v":"３年"},null,{"$f":"IF(入力ｼｰﾄ!T31=\"\",\"\",入力ｼｰﾄ!T31)","v":1704050081}]
[15,null,null,{"$f":"IF(入力ｼｰﾄ!D32=\"\",\"\",入力ｼｰﾄ!D32)","v":30},{"$f":"IF(入力ｼｰﾄ!E32=\"\",\"\",入力ｼｰﾄ!E32)","v":""},{"$f":"IF(入力ｼｰﾄ!F32=\"\",\"\",入力ｼｰﾄ!F32)","v":"ＦＰ"},null,{"$f":"IF(入力ｼｰﾄ!H32=\"\",\"\",入力ｼｰﾄ!H32)","v":"山本"},null,{"$f":"IF(入力ｼｰﾄ!J32=\"\",\"\",入力ｼｰﾄ!J32)","v":"偉心"},null,{"$f":"IF(入力ｼｰﾄ!L32=\"\",\"\",入力ｼｰﾄ!L32)","v":"ヤマモト"},null,{"$f":"IF(入力ｼｰﾄ!N32=\"\",\"\",入力ｼｰﾄ!N32)","v":"イシン"},null,{"$f":"IF(入力ｼｰﾄ!P32=\"\",\"\",入力ｼｰﾄ!P32)","v":"男子"},null,{"$f":"IF(入力ｼｰﾄ!R32=\"\",\"\",入力ｼｰﾄ!R32)","v":"３年"},null,{"$f":"IF(入力ｼｰﾄ!T32=\"\",\"\",入力ｼｰﾄ!T32)","v":1712250061}]
[16,null,null,{"$f":"IF(入力ｼｰﾄ!D33=\"\",\"\",入力ｼｰﾄ!D33)","v":32},{"$f":"IF(入力ｼｰﾄ!E33=\"\",\"\",入力ｼｰﾄ!E33)","v":""},{"$f":"IF(入力ｼｰﾄ!F33=\"\",\"\",入力ｼｰﾄ!F33)","v":"ＦＰ"},null,{"$f":"IF(入力ｼｰﾄ!H33=\"\",\"\",入力ｼｰﾄ!H33)","v":"楠田"},null,{"$f":"IF(入力ｼｰﾄ!J33=\"\",\"\",入力ｼｰﾄ!J33)","v":"朝陽"},null,{"$f":"IF(入力ｼｰﾄ!L33=\"\",\"\",入力ｼｰﾄ!L33)","v":"クスダ"},null,{"$f":"IF(入力ｼｰﾄ!N33=\"\",\"\",入力ｼｰﾄ!N33)","v":"アサヒ"},null,{"$f":"IF(入力ｼｰﾄ!P33=\"\",\"\",入力ｼｰﾄ!P33)","v":"男子"},null,{"$f":"IF(入力ｼｰﾄ!R33=\"\",\"\",入力ｼｰﾄ!R33)","v":"３年"},null,{"$f":"IF(入力ｼｰﾄ!T33=\"\",\"\",入力ｼｰﾄ!T33)","v":1709150013}]
[17,null,null,{"$f":"IF(入力ｼｰﾄ!D34=\"\",\"\",入力ｼｰﾄ!D34)","v":""},{"$f":"IF(入力ｼｰﾄ!E34=\"\",\"\",入力ｼｰﾄ!E34)","v":""},{"$f":"IF(入力ｼｰﾄ!F34=\"\",\"\",入力ｼｰﾄ!F34)","v":""},null,{"$f":"IF(入力ｼｰﾄ!H34=\"\",\"\",入力ｼｰﾄ!H34)","v":""},null,{"$f":"IF(入力ｼｰﾄ!J34=\"\",\"\",入力ｼｰﾄ!J34)","v":""},null,{"$f":"IF(入力ｼｰﾄ!L34=\"\",\"\",入力ｼｰﾄ!L34)","v":""},null,{"$f":"IF(入力ｼｰﾄ!N34=\"\",\"\",入力ｼｰﾄ!N34)","v":""},null,{"$f":"IF(入力ｼｰﾄ!P34=\"\",\"\",入力ｼｰﾄ!P34)","v":""},null,{"$f":"IF(入力ｼｰﾄ!R34=\"\",\"\",入力ｼｰﾄ!R34)","v":""},null,{"$f":"IF(入力ｼｰﾄ!T34=\"\",\"\",入力ｼｰﾄ!T34)","v":""}]
[18,null,null,{"$f":"IF(入力ｼｰﾄ!D35=\"\",\"\",入力ｼｰﾄ!D35)","v":""},{"$f":"IF(入力ｼｰﾄ!E35=\"\",\"\",入力ｼｰﾄ!E35)","v":""},{"$f":"IF(入力ｼｰﾄ!F35=\"\",\"\",入力ｼｰﾄ!F35)","v":""},null,{"$f":"IF(入力ｼｰﾄ!H35=\"\",\"\",入力ｼｰﾄ!H35)","v":""},null,{"$f":"IF(入力ｼｰﾄ!J35=\"\",\"\",入力ｼｰﾄ!J35)","v":""},null,{"$f":"IF(入力ｼｰﾄ!L35=\"\",\"\",入力ｼｰﾄ!L35)","v":""},null,{"$f":"IF(入力ｼｰﾄ!N35=\"\",\"\",入力ｼｰﾄ!N35)","v":""},null,{"$f":"IF(入力ｼｰﾄ!P35=\"\",\"\",入力ｼｰﾄ!P35)","v":""},null,{"$f":"IF(入力ｼｰﾄ!R35=\"\",\"\",入力ｼｰﾄ!R35)","v":""},null,{"$f":"IF(入力ｼｰﾄ!T35=\"\",\"\",入力ｼｰﾄ!T35)","v":""}]
[19,null,null,{"$f":"IF(入力ｼｰﾄ!D36=\"\",\"\",入力ｼｰﾄ!D36)","v":""},{"$f":"IF(入力ｼｰﾄ!E36=\"\",\"\",入力ｼｰﾄ!E36)","v":""},{"$f":"IF(入力ｼｰﾄ!F36=\"\",\"\",入力ｼｰﾄ!F36)","v":""},null,{"$f":"IF(入力ｼｰﾄ!H36=\"\",\"\",入力ｼｰﾄ!H36)","v":""},null,{"$f":"IF(入力ｼｰﾄ!J36=\"\",\"\",入力ｼｰﾄ!J36)","v":""},null,{"$f":"IF(入力ｼｰﾄ!L36=\"\",\"\",入力ｼｰﾄ!L36)","v":""},null,{"$f":"IF(入力ｼｰﾄ!N36=\"\",\"\",入力ｼｰﾄ!N36)","v":""},null,{"$f":"IF(入力ｼｰﾄ!P36=\"\",\"\",入力ｼｰﾄ!P36)","v":""},null,{"$f":"IF(入力ｼｰﾄ!R36=\"\",\"\",入力ｼｰﾄ!R36)","v":""},null,{"$f":"IF(入力ｼｰﾄ!T36=\"\",\"\",入力ｼｰﾄ!T36)","v":""}]
[20,null,null,{"$f":"IF(入力ｼｰﾄ!D37=\"\",\"\",入力ｼｰﾄ!D37)","v":""},{"$f":"IF(入力ｼｰﾄ!E37=\"\",\"\",入力ｼｰﾄ!E37)","v":""},{"$f":"IF(入力ｼｰﾄ!F37=\"\",\"\",入力ｼｰﾄ!F37)","v":""},null,{"$f":"IF(入力ｼｰﾄ!H37=\"\",\"\",入力ｼｰﾄ!H37)","v":""},null,{"$f":"IF(入力ｼｰﾄ!J37=\"\",\"\",入力ｼｰﾄ!J37)","v":""},null,{"$f":"IF(入力ｼｰﾄ!L37=\"\",\"\",入力ｼｰﾄ!L37)","v":""},null,{"$f":"IF(入力ｼｰﾄ!N37=\"\",\"\",入力ｼｰﾄ!N37)","v":""},null,{"$f":"IF(入力ｼｰﾄ!P37=\"\",\"\",入力ｼｰﾄ!P37)","v":""},null,{"$f":"IF(入力ｼｰﾄ!R37=\"\",\"\",入力ｼｰﾄ!R37)","v":""},null,{"$f":"IF(入力ｼｰﾄ!T37=\"\",\"\",入力ｼｰﾄ!T37)","v":""}]
[21,null,null,{"$f":"IF(入力ｼｰﾄ!D38=\"\",\"\",入力ｼｰﾄ!D38)","v":""},{"$f":"IF(入力ｼｰﾄ!E38=\"\",\"\",入力ｼｰﾄ!E38)","v":""},{"$f":"IF(入力ｼｰﾄ!F38=\"\",\"\",入力ｼｰﾄ!F38)","v":""},null,{"$f":"IF(入力ｼｰﾄ!H38=\"\",\"\",入力ｼｰﾄ!H38)","v":""},null,{"$f":"IF(入力ｼｰﾄ!J38=\"\",\"\",入力ｼｰﾄ!J38)","v":""},null,{"$f":"IF(入力ｼｰﾄ!L38=\"\",\"\",入力ｼｰﾄ!L38)","v":""},null,{"$f":"IF(入力ｼｰﾄ!N38=\"\",\"\",入力ｼｰﾄ!N38)","v":""},null,{"$f":"IF(入力ｼｰﾄ!P38=\"\",\"\",入力ｼｰﾄ!P38)","v":""},null,{"$f":"IF(入力ｼｰﾄ!R38=\"\",\"\",入力ｼｰﾄ!R38)","v":""},null,{"$f":"IF(入力ｼｰﾄ!T38=\"\",\"\",入力ｼｰﾄ!T38)","v":""}]
[22,null,null,{"$f":"IF(入力ｼｰﾄ!D39=\"\",\"\",入力ｼｰﾄ!D39)","v":""},{"$f":"IF(入力ｼｰﾄ!E39=\"\",\"\",入力ｼｰﾄ!E39)","v":""},{"$f":"IF(入力ｼｰﾄ!F39=\"\",\"\",入力ｼｰﾄ!F39)","v":""},null,{"$f":"IF(入力ｼｰﾄ!H39=\"\",\"\",入力ｼｰﾄ!H39)","v":""},null,{"$f":"IF(入力ｼｰﾄ!J39=\"\",\"\",入力ｼｰﾄ!J39)","v":""},null,{"$f":"IF(入力ｼｰﾄ!L39=\"\",\"\",入力ｼｰﾄ!L39)","v":""},null,{"$f":"IF(入力ｼｰﾄ!N39=\"\",\"\",入力ｼｰﾄ!N39)","v":""},null,{"$f":"IF(入力ｼｰﾄ!P39=\"\",\"\",入力ｼｰﾄ!P39)","v":""},null,{"$f":"IF(入力ｼｰﾄ!R39=\"\",\"\",入力ｼｰﾄ!R39)","v":""},null,{"$f":"IF(入力ｼｰﾄ!T39=\"\",\"\",入力ｼｰﾄ!T39)","v":""}]
[23,null,null,{"$f":"IF(入力ｼｰﾄ!D40=\"\",\"\",入力ｼｰﾄ!D40)","v":""},{"$f":"IF(入力ｼｰﾄ!E40=\"\",\"\",入力ｼｰﾄ!E40)","v":""},{"$f":"IF(入力ｼｰﾄ!F40=\"\",\"\",入力ｼｰﾄ!F40)","v":""},null,{"$f":"IF(入力ｼｰﾄ!H40=\"\",\"\",入力ｼｰﾄ!H40)","v":""},null,{"$f":"IF(入力ｼｰﾄ!J40=\"\",\"\",入力ｼｰﾄ!J40)","v":""},null,{"$f":"IF(入力ｼｰﾄ!L40=\"\",\"\",入力ｼｰﾄ!L40)","v":""},null,{"$f":"IF(入力ｼｰﾄ!N40=\"\",\"\",入力ｼｰﾄ!N40)","v":""},null,{"$f":"IF(入力ｼｰﾄ!P40=\"\",\"\",入力ｼｰﾄ!P40)","v":""},null,{"$f":"IF(入力ｼｰﾄ!R40=\"\",\"\",入力ｼｰﾄ!R40)","v":""},null,{"$f":"IF(入力ｼｰﾄ!T40=\"\",\"\",入力ｼｰﾄ!T40)","v":""}]
[24,null,null,{"$f":"IF(入力ｼｰﾄ!D41=\"\",\"\",入力ｼｰﾄ!D41)","v":""},{"$f":"IF(入力ｼｰﾄ!E41=\"\",\"\",入力ｼｰﾄ!E41)","v":""},{"$f":"IF(入力ｼｰﾄ!F41=\"\",\"\",入力ｼｰﾄ!F41)","v":""},null,{"$f":"IF(入力ｼｰﾄ!H41=\"\",\"\",入力ｼｰﾄ!H41)","v":""},null,{"$f":"IF(入力ｼｰﾄ!J41=\"\",\"\",入力ｼｰﾄ!J41)","v":""},null,{"$f":"IF(入力ｼｰﾄ!L41=\"\",\"\",入力ｼｰﾄ!L41)","v":""},null,{"$f":"IF(入力ｼｰﾄ!N41=\"\",\"\",入力ｼｰﾄ!N41)","v":""},null,{"$f":"IF(入力ｼｰﾄ!P41=\"\",\"\",入力ｼｰﾄ!P41)","v":""},null,{"$f":"IF(入力ｼｰﾄ!R41=\"\",\"\",入力ｼｰﾄ!R41)","v":""},null,{"$f":"IF(入力ｼｰﾄ!T41=\"\",\"\",入力ｼｰﾄ!T41)","v":""}]
[25,null,null,{"$f":"IF(入力ｼｰﾄ!D42=\"\",\"\",入力ｼｰﾄ!D42)","v":""},{"$f":"IF(入力ｼｰﾄ!E42=\"\",\"\",入力ｼｰﾄ!E42)","v":""},{"$f":"IF(入力ｼｰﾄ!F42=\"\",\"\",入力ｼｰﾄ!F42)","v":""},null,{"$f":"IF(入力ｼｰﾄ!H42=\"\",\"\",入力ｼｰﾄ!H42)","v":""},null,{"$f":"IF(入力ｼｰﾄ!J42=\"\",\"\",入力ｼｰﾄ!J42)","v":""},null,{"$f":"IF(入力ｼｰﾄ!L42=\"\",\"\",入力ｼｰﾄ!L42)","v":""},null,{"$f":"IF(入力ｼｰﾄ!N42=\"\",\"\",入力ｼｰﾄ!N42)","v":""},null,{"$f":"IF(入力ｼｰﾄ!P42=\"\",\"\",入力ｼｰﾄ!P42)","v":""},null,{"$f":"IF(入力ｼｰﾄ!R42=\"\",\"\",入力ｼｰﾄ!R42)","v":""},null,{"$f":"IF(入力ｼｰﾄ!T42=\"\",\"\",入力ｼｰﾄ!T42)","v":""}]
["※ 前試合のハーフタイムまでに運営本部へ提出（第１試合は２０分前までに）"]
["※「警・停」欄は本部において記入（△:警告累積中　×:退場又は警告２回累積による出場停止）　"]

{"sheet":"Sheet3","index":3,"n_rows":9,"n_cols":6,"rows_kept":9,"cut":false,"hidden":true,"merged":[]}
[]
[]
["－"]
["１部","Ａ級","ＦＰ","男子","６年","◎"]
["２部","Ｂ級","ＧＫ","女子","５年"]
[null,"Ｃ級","FP/GK",null,"４年"]
[null,"Ｄ級","GK/FP",null,"３年"]
[null,null,null,null,"２年"]
[null,null,null,null,"１年"]